BEGIN:VCALENDAR
VERSION:2.0
PRODID:-//ChamberMaster//Event Calendar 2.0//EN
METHOD:PUBLISH
X-PUBLISHED-TTL:P3D
REFRESH-INTERVAL:P3D
CALSCALE:GREGORIAN
BEGIN:VEVENT
DTSTART:20260509T143000Z
DTEND:20260509T163000Z
X-MICROSOFT-CDO-ALLDAYEVENT:FALSE
SUMMARY:Your Creativity Matters Art Workshop: Wings of Joy with Kate Marion Lapierre
DESCRIPTION:Join us for a joyful and creative art session where you'll design a vibrant bird using a simple template and your own imagination. Each feather becomes a space to fill with positive words things that lift your spirit\, bring a smile\, or give you strength. In the center of your bird\, you'll add an uplifting quote that inspires you. All materials are provided.
X-ALT-DESC;FMTTYPE=text/html:Join us for a joyful and creative art session where you&#39\;ll design a vibrant bird using a simple template and your own imagination. Each feather becomes a space to fill with positive words&mdash\;things that lift your spirit\, bring a smile\, or give you strength. In the center of your bird\, you&#39\;ll add an uplifting quote that inspires you. All materials are provided.
LOCATION:41 Locust St.\, Northampton\, MA 01060
UID:e.1230.24953
SEQUENCE:3
DTSTAMP:20260421T122833Z
URL:https://business.amherstarea.com/events/details/your-creativity-matters-art-workshop-wings-of-joy-with-kate-marion-lapierre-24953
END:VEVENT

END:VCALENDAR
