BEGIN:VCALENDAR
VERSION:2.0
PRODID:-//ChamberMaster//Event Calendar 2.0//EN
METHOD:PUBLISH
X-PUBLISHED-TTL:P3D
REFRESH-INTERVAL:P3D
CALSCALE:GREGORIAN
BEGIN:VEVENT
DTSTART:20240326T233000Z
DTEND:20240327T003000Z
X-MICROSOFT-CDO-ALLDAYEVENT:FALSE
SUMMARY:You come too: a community performance of Randall Thompson’s Frostiana
DESCRIPTION:You come too: a community performance of Randall Thompson's Frostiana 7:30 PM\, Tuesday\, March 26\, 2024 Johnson Chapel\, Amherst College https://fb.me/e/w5e7lxve5 To honor the 150th birthday of Robert Frost\, pianist Gregory M. Hayes and singers from area ensembles\, including Amherst College\, Da Camera\, Hampshire Choral Society\, Hampshire Young People's Chorus\, Illumine\, Pioneer Valley Cappella\, Amherst Regional and Northampton High Schools\, will join forces to share in communal music making. Arianne Abela\, Todd Fruth\, Paige Graham\, Sheila Heffernon\, and Geoff Hudson will conduct. Frostiana was commissioned in 1959 in celebration of the Amherst Bicentennial and Frost's 85th birthday. To honor their participation in the chorus for the initial commission\, The Hampshire Choral Society alone will perform the first movement\, "The Road Not Taken." "A Girl's Garden" will include the Hampshire Young People's Chorus. Supported in part by a grant from the Amherst Cultural Council\, a local agency supported by the Mass Cultural Council\, a state agency.
X-ALT-DESC;FMTTYPE=text/html:You come too: a community performance of Randall Thompson&rsquo\;s Frostiana 7:30 PM\, Tuesday\, March 26\, 2024 Johnson Chapel\, Amherst College https://fb.me/e/w5e7lxve5 To honor the 150th birthday of Robert Frost\, pianist Gregory M. Hayes and singers from area ensembles\, including Amherst College\, Da Camera\, Hampshire Choral Society\, Hampshire Young People&#39\;s Chorus\, Illumine\, Pioneer Valley Cappella\, Amherst Regional and Northampton High Schools\, will join forces to share in communal music making. Arianne Abela\, Todd Fruth\, Paige Graham\, Sheila Heffernon\, and Geoff Hudson will conduct. Frostiana was commissioned in 1959 in celebration of the Amherst Bicentennial and Frost&#39\;s 85th birthday. To honor their participation in the chorus for the initial commission\, The Hampshire Choral Society alone will perform the first movement\, &quot\;The Road Not Taken.&quot\; &quot\;A Girl&#39\;s Garden&quot\; will include the Hampshire Young People&#39\;s Chorus. Supported in part by a grant from the Amherst Cultural Council\, a local agency supported by the Mass Cultural Council\, a state agency.
LOCATION:Johnson Chapel\, Amherst College
UID:e.1230.24159
SEQUENCE:3
DTSTAMP:20260423T010400Z
URL:https://business.amherstarea.com/events/details/you-come-too-a-community-performance-of-randall-thompson-s-frostiana-24159
END:VEVENT

END:VCALENDAR
