BEGIN:VCALENDAR
VERSION:2.0
PRODID:-//ChamberMaster//Event Calendar 2.0//EN
METHOD:PUBLISH
X-PUBLISHED-TTL:P3D
REFRESH-INTERVAL:P3D
CALSCALE:GREGORIAN
BEGIN:VEVENT
DTSTART:20260603T213000Z
DTEND:20260603T223000Z
X-MICROSOFT-CDO-ALLDAYEVENT:FALSE
SUMMARY:Yoga for Nervous System Regulation with Safara Fisher and Lexi Major (4-Part Series)
DESCRIPTION:This gentle\, supportive workshop series offers space to reconnect with yourself and explore ways to regulate your nervous system through mindful movement and awareness. All practices are adaptable and designed to be accessible for a range of abilities and energy levels. Participants are encouraged to move at their own pace and listen to their bodies throughout.
X-ALT-DESC;FMTTYPE=text/html:This gentle\, supportive workshop series offers space to reconnect with yourself and explore ways to regulate your nervous system through mindful movement and awareness. All practices are adaptable and designed to be accessible for a range of abilities and energy levels. Participants are encouraged to move at their own pace and listen to their bodies throughout.
LOCATION:41 Locust St.\, Northampton\, MA 01060
UID:e.1230.24951
SEQUENCE:3
DTSTAMP:20260421T135125Z
URL:https://business.amherstarea.com/events/details/yoga-for-nervous-system-regulation-with-safara-fisher-and-lexi-major-4-part-series-24951
END:VEVENT

END:VCALENDAR
