BEGIN:VCALENDAR
VERSION:2.0
PRODID:-//ChamberMaster//Event Calendar 2.0//EN
METHOD:PUBLISH
X-PUBLISHED-TTL:P3D
REFRESH-INTERVAL:P3D
CALSCALE:GREGORIAN
BEGIN:VEVENT
DTSTART:20260325T133000Z
DTEND:20260325T140000Z
X-MICROSOFT-CDO-ALLDAYEVENT:FALSE
SUMMARY:Workforce Training Fund Information Session
DESCRIPTION:Learn how your organization can get reimbursed for employee training through the Massachusetts Workforce Training Fund. Join us for a short\, practical webinar on the WFTF Express Grant\; a fast\, streamlined program that provides reimbursement for thousands of pre-approved training courses.
X-ALT-DESC;FMTTYPE=text/html:Learn how your organization can get reimbursed for employee training through the Massachusetts Workforce Training Fund. Join us for a short\, practical webinar on the WFTF Express Grant\; a fast\, streamlined program that provides reimbursement for thousands of pre-approved training courses.
LOCATION:
UID:e.1230.24903
SEQUENCE:3
DTSTAMP:20260421T123206Z
URL:https://business.amherstarea.com/events/details/workforce-training-fund-information-session-24903
END:VEVENT

END:VCALENDAR
