BEGIN:VCALENDAR
VERSION:2.0
PRODID:-//ChamberMaster//Event Calendar 2.0//EN
METHOD:PUBLISH
X-PUBLISHED-TTL:P3D
REFRESH-INTERVAL:P3D
CALSCALE:GREGORIAN
BEGIN:VEVENT
DTSTART:20260108T210000Z
DTEND:20260109T010000Z
X-MICROSOFT-CDO-ALLDAYEVENT:FALSE
SUMMARY:Winter Warmer: Slumber Party
DESCRIPTION:Bring your pajamas to the Museum for a cozy slumber party! Families can gather around our glowing "fire\," snuggle up with blankets and friends\, and enjoy magical storytimes perfect for winding down the day. The evening continues with delightful shadow puppet shows by CactusHead Puppets\, opportunities to create your own shadow puppets\, and special offerings designed to enchant both the young and the young at heart.
X-ALT-DESC;FMTTYPE=text/html:Bring your pajamas to the Museum for a cozy slumber party! Families can gather around our glowing &ldquo\;fire\,&rdquo\; snuggle up with blankets and friends\, and enjoy magical storytimes perfect for winding down the day. The evening continues with delightful shadow puppet shows by CactusHead Puppets\, opportunities to create your own shadow puppets\, and special offerings designed to enchant both the young and the young at heart.
LOCATION:The Eric Carle Museum of Picture Book Art
UID:e.1230.24640
SEQUENCE:3
DTSTAMP:20260421T155316Z
URL:https://business.amherstarea.com/events/details/winter-warmer-slumber-party-24640
END:VEVENT

END:VCALENDAR
