BEGIN:VCALENDAR
VERSION:2.0
PRODID:-//ChamberMaster//Event Calendar 2.0//EN
METHOD:PUBLISH
X-PUBLISHED-TTL:P3D
REFRESH-INTERVAL:P3D
CALSCALE:GREGORIAN
BEGIN:VEVENT
DTSTART:20241130T200000Z
DTEND:20241130T230000Z
X-MICROSOFT-CDO-ALLDAYEVENT:FALSE
SUMMARY:Winter Light Night
DESCRIPTION:The Belchertown Cultural Council is excited to host the 7th Annual Winter Light Night event! Come celebrate the season with your family\, friends and community members. Artisan Fair: Small Business Saturday Stop by the Old Town Hall (28 Park Street\, Belchertown) from 12-5pm to shop locally with talented handmade local businesses. Clay Mates: "decorate an ornament" happening 11-5pm at their studio (145 State St\, Belchertown)- Complimentary ornament craft\, 1pp for the community! (Sponsored activity- Thank you Sue Hevey) Quabbin Art Association: "Art-Take-Away Tree" starting at 12pm at the town common tree. Free experience from QAA to the community Free Activities on the Town Common 3-6pm: Maple cotton candy\, luminary crafts\, DJ Scott Dubey\, live performances\, Travelin' Tom's Coffee truck\, S'mores + more! All items are free to our community thanks to generous supporters. Gingerbread House Contest- Enter to compete by 11/27 to stop by to vote your favorite. Held inside the Belchertown United Church of Christ (BUCC) on Park Street right next to Old Town Hall. Official Lighting 5:30pm Come see the town common sparkle for the season!
X-ALT-DESC;FMTTYPE=text/html:The Belchertown Cultural Council is excited to host the 7th Annual Winter Light Night event! Come celebrate the season with your family\, friends and community members. Artisan Fair: Small Business Saturday Stop by the Old Town Hall (28 Park Street\, Belchertown) from 12-5pm to shop locally with talented handmade local businesses. Clay Mates: &quot\;decorate an ornament&quot\; happening 11-5pm at their studio (145 State St\, Belchertown)- Complimentary ornament craft\, 1pp for the community! (Sponsored activity- Thank you Sue Hevey) Quabbin Art Association: &quot\;Art-Take-Away Tree&quot\; starting at 12pm at the town common tree. Free experience from QAA to the community Free Activities on the Town Common 3-6pm: Maple cotton candy\, luminary crafts\, DJ Scott Dubey\, live performances\, Travelin&#39\; Tom&#39\;s Coffee truck\, S&#39\;mores + more! All items are free to our community thanks to generous supporters. Gingerbread House Contest- Enter to compete by 11/27 to stop by to vote your favorite. Held inside the Belchertown United Church of Christ (BUCC) on Park Street right next to Old Town Hall. Official Lighting 5:30pm Come see the town common sparkle for the season!
LOCATION:Belchertown Common
UID:e.1230.24238
SEQUENCE:3
DTSTAMP:20260422T122036Z
URL:https://business.amherstarea.com/events/details/winter-light-night-24238
END:VEVENT

END:VCALENDAR
