BEGIN:VCALENDAR
VERSION:2.0
PRODID:-//ChamberMaster//Event Calendar 2.0//EN
METHOD:PUBLISH
X-PUBLISHED-TTL:P3D
REFRESH-INTERVAL:P3D
CALSCALE:GREGORIAN
BEGIN:VEVENT
DTSTART:20241217T180000Z
DTEND:20241217T190000Z
X-MICROSOFT-CDO-ALLDAYEVENT:FALSE
SUMMARY:ViViYarn Fashion Ribbon Cutting Ceremony
DESCRIPTION:The Amherst Area Chamber of Commerce is excited to announce a Ribbon Cutting Ceremony to celebrate the grand opening of ViViYarn Fashion in the Hampshire Mall (367 Russell Street in Hadley\, MA) on Tuesday\, December 17th at 1 PM.\n\n \n\nThroughout the week of December 14-21\, ViViYarn Fashion will celebrate its grand opening by offering customers an extra $5 or 10% (whichever is greater) off their purchase\, on top of a store-wide sale the entire week!\n\n \n\nEvent Highlights:\n\n\n	\n	Ribbon Cutting Ceremony: Join us at 1 PM to mark the grand opening of ViViYarn Fashion with a ribbon cutting ceremony.\n	\n	\n	Refreshments and a Holiday Discount: Following the ceremony\, attendees are invited to enjoy complimentary refreshments and an exclusive grand opening sale.\n	\n\n\nThe Ribbon Cutting Ceremony is open to all community members! More information about ViViYarn Fashion can be found on their website at www.viviyarnfashion.com
X-ALT-DESC;FMTTYPE=text/html:<p dir="ltr" style="line-height: 1.38\; margin-top: 0pt\; margin-bottom: 0pt\;"><span id="docs-internal-guid-e8c0955c-7fff-615c-8775-dccb45c8ccfb"><span style="font-size: 11pt\; font-family: Arial\, sans-serif\; color: rgb(0\, 0\, 0)\; background-color: transparent\; font-variant-numeric: normal\; font-variant-east-asian: normal\; font-variant-alternates: normal\; font-variant-position: normal\; font-variant-emoji: normal\; vertical-align: baseline\; white-space-collapse: preserve\;">The Amherst Area Chamber of Commerce is excited to announce a Ribbon Cutting Ceremony to celebrate the grand opening of <strong>ViViYarn Fashion</strong> <strong>in the Hampshire Mall (367 Russell Street in Hadley\, MA) on Tuesday\, December 17th at 1 PM</strong>.</span></span></p>\n\n<p dir="ltr" style="line-height: 1.38\; margin-top: 0pt\; margin-bottom: 0pt\;">&nbsp\;</p>\n\n<p dir="ltr" style="line-height: 1.38\; margin-top: 0pt\; margin-bottom: 0pt\;"><span id="docs-internal-guid-e8c0955c-7fff-615c-8775-dccb45c8ccfb"><span style="font-size: 11pt\; font-family: Arial\, sans-serif\; color: rgb(0\, 0\, 0)\; background-color: transparent\; font-variant-numeric: normal\; font-variant-east-asian: normal\; font-variant-alternates: normal\; font-variant-position: normal\; font-variant-emoji: normal\; vertical-align: baseline\; white-space-collapse: preserve\;">Throughout the week of December 14-21\, ViViYarn Fashion will celebrate its grand opening by offering customers an extra $5 or 10% (whichever is greater) off their purchase\, on top of a store-wide sale the entire week!</span></span></p>\n\n<p dir="ltr" style="line-height: 1.38\; margin-top: 0pt\; margin-bottom: 0pt\;">&nbsp\;</p>\n\n<p dir="ltr" style="line-height: 1.38\; margin-top: 0pt\; margin-bottom: 0pt\;"><span id="docs-internal-guid-e8c0955c-7fff-615c-8775-dccb45c8ccfb"><span style="font-size: 11pt\; font-family: Arial\, sans-serif\; color: rgb(0\, 0\, 0)\; background-color: transparent\; font-weight: 700\; font-variant-numeric: normal\; font-variant-east-asian: normal\; font-variant-alternates: normal\; font-variant-position: normal\; font-variant-emoji: normal\; vertical-align: baseline\; white-space-collapse: preserve\;">Event Highlights:</span></span></p>\n\n<ul style="margin-top:0\;margin-bottom:0\;padding-inline-start:48px\;">\n	<li aria-level="1" dir="ltr" style="list-style-type: disc\; font-size: 11pt\; font-family: Arial\, sans-serif\; color: rgb(0\, 0\, 0)\; background-color: transparent\; font-variant-numeric: normal\; font-variant-east-asian: normal\; font-variant-alternates: normal\; font-variant-position: normal\; font-variant-emoji: normal\; vertical-align: baseline\; white-space: pre\;">\n	<p dir="ltr" role="presentation" style="line-height: 1.38\; margin-top: 12pt\; margin-bottom: 0pt\;"><span id="docs-internal-guid-e8c0955c-7fff-615c-8775-dccb45c8ccfb"><span style="font-size: 11pt\; background-color: transparent\; font-weight: 700\; font-variant-numeric: normal\; font-variant-east-asian: normal\; font-variant-alternates: normal\; font-variant-position: normal\; font-variant-emoji: normal\; vertical-align: baseline\; text-wrap-mode: wrap\;">Ribbon Cutting Ceremony:</span><span style="font-size: 11pt\; background-color: transparent\; font-variant-numeric: normal\; font-variant-east-asian: normal\; font-variant-alternates: normal\; font-variant-position: normal\; font-variant-emoji: normal\; vertical-align: baseline\; text-wrap-mode: wrap\;"> Join us at 1 PM to mark the grand opening of ViViYarn Fashion with a ribbon cutting ceremony.</span></span></p>\n	</li>\n	<li aria-level="1" dir="ltr" style="list-style-type: disc\; font-size: 11pt\; font-family: Arial\, sans-serif\; color: rgb(0\, 0\, 0)\; background-color: transparent\; font-variant-numeric: normal\; font-variant-east-asian: normal\; font-variant-alternates: normal\; font-variant-position: normal\; font-variant-emoji: normal\; vertical-align: baseline\; white-space: pre\;">\n	<p dir="ltr" role="presentation" style="line-height: 1.38\; margin-top: 0pt\; margin-bottom: 12pt\;"><span id="docs-internal-guid-e8c0955c-7fff-615c-8775-dccb45c8ccfb"><span style="font-size: 11pt\; background-color: transparent\; font-weight: 700\; font-variant-numeric: normal\; font-variant-east-asian: normal\; font-variant-alternates: normal\; font-variant-position: normal\; font-variant-emoji: normal\; vertical-align: baseline\; text-wrap-mode: wrap\;">Refreshments and a Holiday Discount:</span><span style="font-size: 11pt\; background-color: transparent\; font-variant-numeric: normal\; font-variant-east-asian: normal\; font-variant-alternates: normal\; font-variant-position: normal\; font-variant-emoji: normal\; vertical-align: baseline\; text-wrap-mode: wrap\;"> Following the ceremony\, attendees are invited to enjoy complimentary refreshments and an exclusive grand opening sale.</span></span></p>\n	</li>\n</ul>\n\n<p dir="ltr" style="line-height: 1.38\; margin-top: 12pt\; margin-bottom: 12pt\;"><span id="docs-internal-guid-e8c0955c-7fff-615c-8775-dccb45c8ccfb"><span style="font-size: 11pt\; font-family: Arial\, sans-serif\; color: rgb(0\, 0\, 0)\; background-color: transparent\; font-variant-numeric: normal\; font-variant-east-asian: normal\; font-variant-alternates: normal\; font-variant-position: normal\; font-variant-emoji: normal\; vertical-align: baseline\; white-space-collapse: preserve\;">The Ribbon Cutting Ceremony is open to all community members! More information about ViViYarn Fashion can be found on their website at www.viviyarnfashion.com</span></span></p>\n
LOCATION:Hampshire Mall (By JCPenney) 367 Russell Street Hadley\, MA
UID:e.1230.24244
SEQUENCE:3
DTSTAMP:20260422T115111Z
URL:https://business.amherstarea.com/events/details/viviyarn-fashion-ribbon-cutting-ceremony-24244
END:VEVENT

END:VCALENDAR
