BEGIN:VCALENDAR
VERSION:2.0
PRODID:-//ChamberMaster//Event Calendar 2.0//EN
METHOD:PUBLISH
X-PUBLISHED-TTL:P3D
REFRESH-INTERVAL:P3D
CALSCALE:GREGORIAN
BEGIN:VEVENT
DTSTART:20250315T210000Z
DTEND:20250315T220000Z
X-MICROSOFT-CDO-ALLDAYEVENT:FALSE
SUMMARY:To-Go Dinner at South Church
DESCRIPTION:Corned Beef Boiled Dinner just in time for St. Patty's Day! Menu includes Corned Beef with potatoes\, carrots\, cabbage or Lentil Stew. Accompaniments are Irish Soda Bread and Carrot Cake with Cream Cheese Frosting. $18 per meal. Curbside pickup. Proceeds shared between South Church ministries and Amherst Survival Center and Food Bank of Western MA
X-ALT-DESC;FMTTYPE=text/html:Corned Beef Boiled Dinner just in time for St. Patty&#39\;s Day! Menu includes Corned Beef with potatoes\, carrots\, cabbage or Lentil Stew. Accompaniments are Irish Soda Bread and Carrot Cake with Cream Cheese Frosting. $18 per meal. Curbside pickup. Proceeds shared between South Church ministries and Amherst Survival Center and Food Bank of Western MA
LOCATION:South Congregational Church 1066 South East Street Amherst
UID:e.1230.24295
SEQUENCE:3
DTSTAMP:20260422T055154Z
URL:https://business.amherstarea.com/events/details/to-go-dinner-at-south-church-03-15-2025-24295
END:VEVENT

END:VCALENDAR
