BEGIN:VCALENDAR
VERSION:2.0
PRODID:-//ChamberMaster//Event Calendar 2.0//EN
METHOD:PUBLISH
X-PUBLISHED-TTL:P3D
REFRESH-INTERVAL:P3D
CALSCALE:GREGORIAN
BEGIN:VEVENT
DTSTART:20260321T210000Z
DTEND:20260321T220000Z
X-MICROSOFT-CDO-ALLDAYEVENT:FALSE
SUMMARY:To-Go Dinner
DESCRIPTION:Our next To-Go Dinner features Parmesan-Crusted Chicken (or vegetarian option) plus roasted baby potatoes\, glazed carrots\, roll\, and chocolate mousse. Curbside pickup available between 5 & 6 p.m.
X-ALT-DESC;FMTTYPE=text/html:Our next To-Go Dinner features Parmesan-Crusted Chicken (or vegetarian option) plus roasted baby potatoes\, glazed carrots\, roll\, and chocolate mousse. Curbside pickup available between 5 &amp\; 6 p.m.
LOCATION:South Congregational Church 1066 South East Street Amherst
UID:e.1230.24905
SEQUENCE:3
DTSTAMP:20260421T112332Z
URL:https://business.amherstarea.com/events/details/to-go-dinner-24905
END:VEVENT

END:VCALENDAR
