BEGIN:VCALENDAR
VERSION:2.0
PRODID:-//ChamberMaster//Event Calendar 2.0//EN
METHOD:PUBLISH
X-PUBLISHED-TTL:P3D
REFRESH-INTERVAL:P3D
CALSCALE:GREGORIAN
BEGIN:VEVENT
DTSTART:20241122T000000Z
DTEND:20241122T020000Z
X-MICROSOFT-CDO-ALLDAYEVENT:FALSE
SUMMARY:They Called Me Mayer: Painted Memories of a Jewish Childhood in Poland before the Holocaust with Barbara Kirshenblatt-Gimblett
DESCRIPTION:Mayer Kirshenblatt was born in 1916 and left Poland for Canada in 1934. He taught himself to paint at age 73 and made it his mission to remember the world of his childhood in living color\, "lest future generations know more about how Jews died than how they lived." In this talk his daughter\, Barbara Kirshenblatt-Gimblett\, will discuss her father's legacy and recent exhibitions of his work\, including the current exhibition at the POLIN Museum\, which presents a dialogue between Mayer's depictions of his youth in the shtetl and today's Opat w\, a post-Jewish town with no remaining Jewish community.
X-ALT-DESC;FMTTYPE=text/html:Mayer Kirshenblatt was born in 1916 and left Poland for Canada in 1934. He taught himself to paint at age 73 and made it his mission to remember the world of his childhood in living color\, &ldquo\;lest future generations know more about how Jews died than how they lived.&rdquo\; In this talk his daughter\, Barbara Kirshenblatt-Gimblett\, will discuss her father&rsquo\;s legacy and recent exhibitions of his work\, including the current exhibition at the POLIN Museum\, which presents a dialogue between Mayer&rsquo\;s depictions of his youth in the shtetl and today&rsquo\;s Opat&oacute\;w\, a post-Jewish town with no remaining Jewish community.
LOCATION:Online
UID:e.1230.24221
SEQUENCE:3
DTSTAMP:20260422T123536Z
URL:https://business.amherstarea.com/events/details/they-called-me-mayer-painted-memories-of-a-jewish-childhood-in-poland-before-the-holocaust-with-barbara-kirshenblatt-gimblett-24221
END:VEVENT

END:VCALENDAR
