BEGIN:VCALENDAR
VERSION:2.0
PRODID:-//ChamberMaster//Event Calendar 2.0//EN
METHOD:PUBLISH
X-PUBLISHED-TTL:P3D
REFRESH-INTERVAL:P3D
CALSCALE:GREGORIAN
BEGIN:VEVENT
DTSTART:20260310T220000Z
DTEND:20260311T000000Z
X-MICROSOFT-CDO-ALLDAYEVENT:FALSE
SUMMARY:The Translated Book Club: Trash
DESCRIPTION:The Translated Book Club promotes the reading of literature translated into English and recognizes and supports translators and their publishers. Each meeting is hosted by a UMass Amherst faculty member or graduate student and designed for readers of diverse backgrounds with no specific language requirement other than English.\n\n\n\nSponsored by the Gentzler Translation Center\, the club is free and open to community members from high school students to retirees\, with a maximum of 15 readers per meeting. Advanced sign-up is required at the link below. The first eight readers to sign up for each meeting receive a free copy of the translated book.\n\n\n\nMarch 10\, 2026\n\nTitle: Trash (Deep Vellum Publishing\, 2023)\n\nAuthor: Sylvia Aguilar Z leny\n\nTranslator: J.D. Pluecker\n\nLanguage: Spanish   English\n\nHost: Ilse Meiler\, Comparative Literature Program
X-ALT-DESC;FMTTYPE=text/html:The Translated Book Club promotes the reading of literature translated into English and recognizes and supports translators and their publishers. Each meeting is hosted by a UMass Amherst faculty member or graduate student and designed for readers of diverse backgrounds with no specific language requirement other than English.<br />\n<br />\nSponsored by the Gentzler&nbsp\;Translation Center\, the club is free and open to community members from high school students to retirees\, with a maximum of 15 readers per meeting. Advanced sign-up is required at the link below. The first eight readers to sign up for each meeting receive a free copy of the translated book.<br />\n<br />\nMarch 10\, 2026<br />\nTitle: Trash (Deep Vellum Publishing\, 2023)<br />\nAuthor: Sylvia Aguilar Z&eacute\;leny<br />\nTranslator: J.D. Pluecker<br />\nLanguage: Spanish &gt\; English<br />\nHost: Ilse Meiler\, Comparative Literature Program
LOCATION:UMass Downtown 108 N Pleasant St Amherst\, MA
UID:e.1230.24579
SEQUENCE:3
DTSTAMP:20260421T112539Z
URL:https://business.amherstarea.com/events/details/the-translated-book-club-trash-24579
END:VEVENT

END:VCALENDAR
