BEGIN:VCALENDAR
VERSION:2.0
PRODID:-//ChamberMaster//Event Calendar 2.0//EN
METHOD:PUBLISH
X-PUBLISHED-TTL:P3D
REFRESH-INTERVAL:P3D
CALSCALE:GREGORIAN
BEGIN:VEVENT
DTSTART:20260505T220000Z
DTEND:20260506T000000Z
X-MICROSOFT-CDO-ALLDAYEVENT:FALSE
SUMMARY:The Translated Book Club: Heart Lamp
DESCRIPTION:The Translated Book Club promotes the reading of literature translated into English and recognizes and supports translators and their publishers. Each meeting is hosted by a UMass Amherst faculty member or graduate student and designed for readers of diverse backgrounds with no specific language requirement other than English.\n\n\n\nSponsored by the Gentzler Translation Center\, the club is free and open to community members from high school students to retirees\, with a maximum of 15 readers per meeting. Advanced sign-up is required at the link below. The first eight readers to sign up for each meeting receive a free copy of the translated book.\n\n\n\nMay 5\, 2026\n\nTitle: Heart Lamp (Penguin Random House\, 2025)\n\nAuthor: Banu Mushtaq\n\nTranslator: Deepa Bhasthi\n\nLanguage: Kannada   English\n\nHost: Safia Mahmood\, English Department
X-ALT-DESC;FMTTYPE=text/html:The Translated Book Club promotes the reading of literature translated into English and recognizes and supports translators and their publishers. Each meeting is hosted by a UMass Amherst faculty member or graduate student and designed for readers of diverse backgrounds with no specific language requirement other than English.<br />\n<br />\nSponsored by the Gentzler&nbsp\;Translation Center\, the club is free and open to community members from high school students to retirees\, with a maximum of 15 readers per meeting. Advanced sign-up is required at the link below. The first eight readers to sign up for each meeting receive a free copy of the translated book.<br />\n<br />\nMay 5\, 2026<br />\nTitle: Heart Lamp (Penguin Random House\, 2025)<br />\nAuthor: Banu Mushtaq<br />\nTranslator: Deepa Bhasthi<br />\nLanguage: Kannada &gt\; English<br />\nHost: Safia Mahmood\, English Department
LOCATION:UMass Downtown 108 N Pleasant St Amherst\, MA
UID:e.1230.24581
SEQUENCE:3
DTSTAMP:20260421T124329Z
URL:https://business.amherstarea.com/events/details/the-translated-book-club-heart-lamp-24581
END:VEVENT

END:VCALENDAR
