BEGIN:VCALENDAR
VERSION:2.0
PRODID:-//ChamberMaster//Event Calendar 2.0//EN
METHOD:PUBLISH
X-PUBLISHED-TTL:P3D
REFRESH-INTERVAL:P3D
CALSCALE:GREGORIAN
BEGIN:VEVENT
DTSTART:20250129T160000Z
DTEND:20250129T180000Z
X-MICROSOFT-CDO-ALLDAYEVENT:FALSE
SUMMARY:The Skinny Pancake Open House
DESCRIPTION:Join us for an Open House at The Skinny Pancake on Wednesday\, January 29th\, at 11 AM to celebrate their new location on Russell Street in Hadley!   \n\n\n\n \n\n\n\nThis event is open to the community - celebrate with complimentary Sugarshack crepes (The Skinny Pancake's signature butter and local maple sugar sweet crepes) and coffee from 11 AM to 1 PM. Additionally\, sign up for their newsletter and "pick a prize\," including merch and gift cards!\n\n\n\n \n\n\n\nWe're thrilled to welcome The Skinny Pancake to the Amherst Area and to celebrate their commitment to supporting local farmers and providing delicious dining options for our community!
X-ALT-DESC;FMTTYPE=text/html:<div data-block="true" data-editor="am6ii" data-offset-key="8b9m-0-0" style="font-family: -apple-system\, BlinkMacSystemFont\, &quot\;Segoe UI&quot\;\, Roboto\, Helvetica\, Arial\, sans-serif\, &quot\;Apple Color Emoji&quot\;\, &quot\;Segoe UI Emoji&quot\;\, &quot\;Segoe UI Symbol&quot\;\; color: rgb(28\, 43\, 51)\; font-size: 14px\; white-space-collapse: preserve\;">\n<div class="_1mf _1mj" data-offset-key="8b9m-0-0" style="position: relative\; direction: ltr\; font-family: inherit\;"><span data-offset-key="8b9m-0-0" style="font-family: inherit\;">Join us for an Open House at The Skinny Pancake on Wednesday\, January 29th\, at 11 AM to celebrate their new location on Russell Street in Hadley! &#129374\;&#129374\;</span></div>\n</div>\n\n<div data-block="true" data-editor="am6ii" data-offset-key="di4bh-0-0" style="font-family: -apple-system\, BlinkMacSystemFont\, &quot\;Segoe UI&quot\;\, Roboto\, Helvetica\, Arial\, sans-serif\, &quot\;Apple Color Emoji&quot\;\, &quot\;Segoe UI Emoji&quot\;\, &quot\;Segoe UI Symbol&quot\;\; color: rgb(28\, 43\, 51)\; font-size: 14px\; white-space-collapse: preserve\;">\n<div class="_1mf _1mj" data-offset-key="di4bh-0-0" style="position: relative\; direction: ltr\; font-family: inherit\;">&nbsp\;</div>\n</div>\n\n<div data-block="true" data-editor="am6ii" data-offset-key="ehoct-0-0" style="font-family: -apple-system\, BlinkMacSystemFont\, &quot\;Segoe UI&quot\;\, Roboto\, Helvetica\, Arial\, sans-serif\, &quot\;Apple Color Emoji&quot\;\, &quot\;Segoe UI Emoji&quot\;\, &quot\;Segoe UI Symbol&quot\;\; color: rgb(28\, 43\, 51)\; font-size: 14px\; white-space-collapse: preserve\;">\n<div class="_1mf _1mj" data-offset-key="ehoct-0-0" style="position: relative\; direction: ltr\; font-family: inherit\;"><span data-offset-key="ehoct-0-0" style="font-family: inherit\;">This event is open to the community - celebrate with complimentary Sugarshack crepes (The Skinny Pancake&rsquo\;s signature butter and local maple sugar sweet crepes) and coffee from 11 AM to 1 PM. Additionally\, sign up for their newsletter and &ldquo\;pick a prize\,&rdquo\; including merch and gift cards!</span></div>\n</div>\n\n<div data-block="true" data-editor="am6ii" data-offset-key="cp9q5-0-0" style="font-family: -apple-system\, BlinkMacSystemFont\, &quot\;Segoe UI&quot\;\, Roboto\, Helvetica\, Arial\, sans-serif\, &quot\;Apple Color Emoji&quot\;\, &quot\;Segoe UI Emoji&quot\;\, &quot\;Segoe UI Symbol&quot\;\; color: rgb(28\, 43\, 51)\; font-size: 14px\; white-space-collapse: preserve\;">\n<div class="_1mf _1mj" data-offset-key="cp9q5-0-0" style="position: relative\; direction: ltr\; font-family: inherit\;">&nbsp\;</div>\n</div>\n\n<div data-block="true" data-editor="am6ii" data-offset-key="50jhg-0-0" style="font-family: -apple-system\, BlinkMacSystemFont\, &quot\;Segoe UI&quot\;\, Roboto\, Helvetica\, Arial\, sans-serif\, &quot\;Apple Color Emoji&quot\;\, &quot\;Segoe UI Emoji&quot\;\, &quot\;Segoe UI Symbol&quot\;\; color: rgb(28\, 43\, 51)\; font-size: 14px\; white-space-collapse: preserve\;">\n<div class="_1mf _1mj" data-offset-key="50jhg-0-0" style="position: relative\; direction: ltr\; font-family: inherit\;"><span data-offset-key="50jhg-0-0" style="font-family: inherit\;">We&#39\;re thrilled to welcome The Skinny Pancake to the Amherst Area and to celebrate their commitment to supporting local farmers and providing delicious dining options for our community! &#129505\;&#10024\;</span></div>\n</div>\n
LOCATION:The Skinny Pancake 379 Russell St. Hadley\, MA 01035
UID:e.1230.24283
SEQUENCE:3
DTSTAMP:20260422T085159Z
URL:https://business.amherstarea.com/events/details/the-skinny-pancake-open-house-24283
END:VEVENT

END:VCALENDAR
