BEGIN:VCALENDAR
VERSION:2.0
PRODID:-//ChamberMaster//Event Calendar 2.0//EN
METHOD:PUBLISH
X-PUBLISHED-TTL:P3D
REFRESH-INTERVAL:P3D
CALSCALE:GREGORIAN
BEGIN:VEVENT
DTSTART:20250406T180000Z
DTEND:20250406T200000Z
X-MICROSOFT-CDO-ALLDAYEVENT:FALSE
SUMMARY:The Glory of Life | Pioneer Valley Jewish Film Festival Screening
DESCRIPTION:Set against the picturesque Baltic Sea coast in 1923\, this tender drama captures Franz Kafka's final year\, transformed by the redemptive power of love. The fragile writer\, battling tuberculosis and an overbearing family\, finds an unforeseen connection with Dora Diamant\, a spirited young woman working at a Jewish community center. Their romance blooms into a profound partnership\, carrying them through Berlin to an Austrian sanatorium where Kafka confronts his mortality with newfound peace. Presented by the Pioneer Valley Jewish Film Festival and co-sponsored by the Yiddish Book Center.
X-ALT-DESC;FMTTYPE=text/html:Set against the picturesque Baltic Sea coast in 1923\, this tender drama captures Franz Kafka&rsquo\;s final year\, transformed by the redemptive power of love. The fragile writer\, battling tuberculosis and an overbearing family\, finds an unforeseen connection with Dora Diamant\, a spirited young woman working at a Jewish community center. Their romance blooms into a profound partnership\, carrying them through Berlin to an Austrian sanatorium where Kafka confronts his mortality with newfound peace. Presented by the Pioneer Valley Jewish Film Festival and co-sponsored by the Yiddish Book Center.
LOCATION:In person at the Yiddish Book Center 1021 West St\, Amherst\, MA 01002
UID:e.1230.24303
SEQUENCE:3
DTSTAMP:20260421T123625Z
URL:https://business.amherstarea.com/events/details/the-glory-of-life-pioneer-valley-jewish-film-festival-screening-24303
END:VEVENT

END:VCALENDAR
