BEGIN:VCALENDAR
VERSION:2.0
PRODID:-//ChamberMaster//Event Calendar 2.0//EN
METHOD:PUBLISH
X-PUBLISHED-TTL:P3D
REFRESH-INTERVAL:P3D
CALSCALE:GREGORIAN
BEGIN:VEVENT
DTSTART:20260316T220000Z
DTEND:20260316T231500Z
X-MICROSOFT-CDO-ALLDAYEVENT:FALSE
SUMMARY:The Genetics of Cancer and Your Inherited Risk with Page Brody
DESCRIPTION:Genetic counseling is the process of helping you assess and understand your (and your family's) risks and providing support and education throughout the genetic testing process.\n\n\n\nIn this seminar led by local Certified Genetic Counselor Page Brody\, we'll explore the basics of cancer genetics and why a well-gathered family history helps your providers better understand if genetic testing may shed light on your hereditary cancer risk.\n\n\n\nBrought to you in conjunction with the Greenfield Public Library\, this program will be available in-person at the Greenfield Public Library Community room\, and remotely as a Zoom Webinar. This program is available to anyone in the community\, regardless of a cancer diagnosis. Registration is required.
X-ALT-DESC;FMTTYPE=text/html:Genetic counseling is the process of helping you assess and understand your (and your family&rsquo\;s) risks and providing support and education throughout the genetic testing process.<br />\n<br />\nIn this seminar led by local Certified Genetic Counselor Page Brody\, we&rsquo\;ll explore the basics of cancer genetics and why a well-gathered family history helps your providers better understand if genetic testing may shed light on your hereditary cancer risk.<br />\n<br />\nBrought to you in conjunction with the Greenfield Public Library\, this program will be available in-person at the Greenfield Public Library Community room\, and remotely as a Zoom Webinar. This program is available to anyone in the community\, regardless of a cancer diagnosis. Registration is required.
LOCATION:Greenfield Public Library 412 Main St. Greenfield\, MA 01301
UID:e.1230.24895
SEQUENCE:3
DTSTAMP:20260421T112802Z
URL:https://business.amherstarea.com/events/details/the-genetics-of-cancer-and-your-inherited-risk-with-page-brody-24895
END:VEVENT

END:VCALENDAR
