BEGIN:VCALENDAR
VERSION:2.0
PRODID:-//ChamberMaster//Event Calendar 2.0//EN
METHOD:PUBLISH
X-PUBLISHED-TTL:P3D
REFRESH-INTERVAL:P3D
CALSCALE:GREGORIAN
BEGIN:VEVENT
DTSTART:20250110T000000Z
DTEND:20250110T020000Z
X-MICROSOFT-CDO-ALLDAYEVENT:FALSE
SUMMARY:The Art of Jewish Papercutting with Deborah Ugoretz
DESCRIPTION:Artist Deborah Ugoretz first discovered Jewish papercutting forty-seven years ago. Since then she has worked with textual sources like the Bible\, rabbinical teachings\, and poetry\, converting them into visual language as a way to communicate their profound meaning. In this session\, Deborah will present the iconography of papercutting and illustrate how "ordinary folks" created particularly Jewish papercuts. She will show antique papercuts from 18th-century Eastern Europe\, Italian Ketubot\, and samples of her own work.
X-ALT-DESC;FMTTYPE=text/html:Artist Deborah Ugoretz first discovered Jewish papercutting forty-seven years ago. Since then she has worked with textual sources like the Bible\, rabbinical teachings\, and poetry\, converting them into visual language as a way to communicate their profound meaning. In this session\, Deborah will present the iconography of papercutting and illustrate how &ldquo\;ordinary folks&rdquo\; created particularly Jewish papercuts. She will show antique papercuts from 18th-century Eastern Europe\, Italian Ketubot\, and samples of her own work.
LOCATION:Zoom
UID:e.1230.24240
SEQUENCE:3
DTSTAMP:20260422T090122Z
URL:https://business.amherstarea.com/events/details/the-art-of-jewish-papercutting-with-deborah-ugoretz-24240
END:VEVENT

END:VCALENDAR
