BEGIN:VCALENDAR
VERSION:2.0
PRODID:-//ChamberMaster//Event Calendar 2.0//EN
METHOD:PUBLISH
X-PUBLISHED-TTL:P3D
REFRESH-INTERVAL:P3D
CALSCALE:GREGORIAN
BEGIN:VEVENT
DTSTART:20240714T160000Z
DTEND:20240715T004500Z
X-MICROSOFT-CDO-ALLDAYEVENT:FALSE
SUMMARY:Summer Jazz
DESCRIPTION:12-1 pm - Jazz Rules\n\n1:15-2:45 - Das Trio\n\n3 - 4:45 - Layaali Arabic Trio\n\n5 - 6:45 - John Sheldon\n\n7 - 8:45 - Masala Jazz
X-ALT-DESC;FMTTYPE=text/html:12-1 pm - Jazz Rules<br />\n1:15-2:45 - Das Trio<br />\n3 - 4:45 - Layaali Arabic Trio<br />\n5 - 6:45 - John Sheldon<br />\n7 - 8:45 - Masala Jazz
LOCATION:Right in front of GoBerry! 28 Amity Street Suite 1E Amherst\, MA 01002 (413) 230 - 3163
UID:e.1230.24197
SEQUENCE:3
DTSTAMP:20260422T220313Z
URL:https://business.amherstarea.com/events/details/summer-jazz-24197
END:VEVENT

END:VCALENDAR
