BEGIN:VCALENDAR
VERSION:2.0
PRODID:-//ChamberMaster//Event Calendar 2.0//EN
METHOD:PUBLISH
X-PUBLISHED-TTL:P3D
REFRESH-INTERVAL:P3D
CALSCALE:GREGORIAN
BEGIN:VEVENT
DTSTART:20240706T150000Z
DTEND:20240706T160000Z
X-MICROSOFT-CDO-ALLDAYEVENT:FALSE
SUMMARY:South Congregational Church Steeple Rededication
DESCRIPTION:11:00 a.m. Rededication of the steeple and the bell for the church community\, the local community and invited guests.\n\n Picnic lunch to follow. Reservations required. Call the Church office: 413-253-2977.\n\n If it rains\, everything will be indoors\n\n Church Meadow open for walking all day.
X-ALT-DESC;FMTTYPE=text/html:11:00 a.m. Rededication of the steeple and the bell for the church community\, the local community and invited guests.<br />\n&nbsp\;Picnic lunch to follow. Reservations required. Call the Church office: 413-253-2977.<br />\n&nbsp\;If it rains\, everything will be indoors<br />\n&nbsp\;Church Meadow open for walking all day.
LOCATION:
UID:e.1230.24196
SEQUENCE:3
DTSTAMP:20260422T185911Z
URL:https://business.amherstarea.com/events/details/south-congregational-church-steeple-rededication-24196
END:VEVENT

END:VCALENDAR
