BEGIN:VCALENDAR
VERSION:2.0
PRODID:-//ChamberMaster//Event Calendar 2.0//EN
METHOD:PUBLISH
X-PUBLISHED-TTL:P3D
REFRESH-INTERVAL:P3D
CALSCALE:GREGORIAN
BEGIN:VEVENT
DTSTART:20241123T130000Z
DTEND:20241123T190000Z
X-MICROSOFT-CDO-ALLDAYEVENT:FALSE
SUMMARY:Sleighbell Fair
DESCRIPTION:Annual Sleighbell Fair at South Church featuring crafts\, baked goods\, jams\, a great lunch\, art raffle\, white elephants\, clothing & accessories and more. Come for the fun!
X-ALT-DESC;FMTTYPE=text/html:Annual Sleighbell Fair at South Church featuring crafts\, baked goods\, jams\, a great lunch\, art raffle\, white elephants\, clothing &amp\; accessories and more. Come for the fun!
LOCATION:South Congregational Church 1066 South East Street in Amherst
UID:e.1230.24227
SEQUENCE:3
DTSTAMP:20260422T145609Z
URL:https://business.amherstarea.com/events/details/sleighbell-fair-11-23-2024-24227
END:VEVENT

END:VCALENDAR
