BEGIN:VCALENDAR
VERSION:2.0
PRODID:-//ChamberMaster//Event Calendar 2.0//EN
METHOD:PUBLISH
X-PUBLISHED-TTL:P3D
REFRESH-INTERVAL:P3D
CALSCALE:GREGORIAN
BEGIN:VEVENT
DTSTART:20241110T190000Z
DTEND:20241110T210000Z
X-MICROSOFT-CDO-ALLDAYEVENT:FALSE
SUMMARY:Sabor Judío: The Jewish Mexican Cookbook\, with Ilan Stavans
DESCRIPTION:Ilan Stavans discusses his new book Sabor Jud o: The Jewish Mexican Cookbook\, coauthored with Margaret E. Boyle. Through 100 recipes it tells the complex story of Jewish life in Mexico\, from the conversos in the colonial period to the Sephardic Jews arriving from the crumbling Ottoman Empire at the end of the 19th century and the Yiddish-speaking seekers of the Pale of Settlement at the beginning of the 20th century to the Holocaust survivors of the forties and the Israeli emigrants of the seventies. Stavans\, an internationally renowned scholar\, translator\, lexicographer\, and cultural commentator\, will reflect on the fusion of Jewish and Mexican flavors. This event is presented live at the Yiddish Book Center. Following Ilan's conversation there will be a book signing. No advance registration is required to attend this event in person.
X-ALT-DESC;FMTTYPE=text/html:Ilan Stavans discusses his new book Sabor Jud&iacute\;o: The Jewish Mexican Cookbook\, coauthored with Margaret E. Boyle. Through 100 recipes it tells the complex story of Jewish life in Mexico\, from the conversos in the colonial period to the Sephardic Jews arriving from the crumbling Ottoman Empire at the end of the 19th century and the Yiddish-speaking seekers of the Pale of Settlement at the beginning of the 20th century to the Holocaust survivors of the forties and the Israeli emigrants of the seventies. Stavans\, an internationally renowned scholar\, translator\, lexicographer\, and cultural commentator\, will reflect on the fusion of Jewish and Mexican flavors. This event is presented live at the Yiddish Book Center. Following Ilan&rsquo\;s conversation there will be a book signing. No advance registration is required to attend this event in person.
LOCATION:1021 West St\, Amherst\, MA 01002
UID:e.1230.24222
SEQUENCE:3
DTSTAMP:20260422T123208Z
URL:https://business.amherstarea.com/events/details/sabor-jud&#237;o-the-jewish-mexican-cookbook-with-ilan-stavans-24222
END:VEVENT

END:VCALENDAR
