BEGIN:VCALENDAR
VERSION:2.0
PRODID:-//ChamberMaster//Event Calendar 2.0//EN
METHOD:PUBLISH
X-PUBLISHED-TTL:P3D
REFRESH-INTERVAL:P3D
CALSCALE:GREGORIAN
BEGIN:VEVENT
DTSTART:20251216T200000Z
DTEND:20251216T213000Z
X-MICROSOFT-CDO-ALLDAYEVENT:FALSE
SUMMARY:Ribbon Cutting Ceremony: ConvenientMD Urgent Care
DESCRIPTION:ConvenientMD Urgent Care will celebrate the grand opening of its newest clinic in Hadley with a ribbon cutting ceremony\, hosted in partnership with the Amherst Area Chamber of Commerce. The ceremony will take place on Tuesday\, December 16th from 3:00 PM to 4:30 PM at 424 Russell Street in Hadley.\n \n\nEvent Highlights\n\n\n	\n	Ribbon-Cutting Ceremony: Celebrate the official opening of ConvenientMD Urgent Care with members of the local community.\n	\n	\n	Tour the Facility: Explore the clinic and meet the medical team. Refreshments and snacks will be provided!
X-ALT-DESC;FMTTYPE=text/html:<p dir="ltr" style="line-height:1.38\;margin-top:0pt\;margin-bottom:0pt\;"><span id="docs-internal-guid-ca23c33a-7fff-9de2-bd30-e076c962b97a"><span style="font-size: 11pt\; font-family: Arial\, sans-serif\; color: rgb(0\, 0\, 0)\; background-color: transparent\; font-variant-numeric: normal\; font-variant-east-asian: normal\; font-variant-alternates: normal\; font-variant-position: normal\; font-variant-emoji: normal\; vertical-align: baseline\; white-space-collapse: preserve\;">ConvenientMD Urgent Care will celebrate the grand opening of its newest clinic in Hadley with a ribbon cutting ceremony\, hosted in partnership with the Amherst Area Chamber of Commerce. The ceremony will take place on Tuesday\, December 16th from 3:00 PM to 4:30 PM at 424 Russell Street in Hadley.</span></span></p>\n&nbsp\;\n\n<p dir="ltr" style="line-height:1.38\;margin-top:0pt\;margin-bottom:0pt\;"><span id="docs-internal-guid-ca23c33a-7fff-9de2-bd30-e076c962b97a"><span style="font-size: 11pt\; font-family: Arial\, sans-serif\; color: rgb(0\, 0\, 0)\; background-color: transparent\; font-weight: 700\; font-variant-numeric: normal\; font-variant-east-asian: normal\; font-variant-alternates: normal\; font-variant-position: normal\; font-variant-emoji: normal\; vertical-align: baseline\; white-space-collapse: preserve\;">Event Highlights</span></span></p>\n\n<ul style="margin-top:0\;margin-bottom:0\;padding-inline-start:48px\;">\n	<li aria-level="1" dir="ltr" style="list-style-type: disc\; font-size: 11pt\; font-family: Arial\, sans-serif\; color: rgb(0\, 0\, 0)\; background-color: transparent\; font-variant-numeric: normal\; font-variant-east-asian: normal\; font-variant-alternates: normal\; font-variant-position: normal\; font-variant-emoji: normal\; vertical-align: baseline\; white-space: pre\;">\n	<p dir="ltr" role="presentation" style="line-height:1.38\;margin-top:0pt\;margin-bottom:0pt\;"><span id="docs-internal-guid-ca23c33a-7fff-9de2-bd30-e076c962b97a"><span style="font-size: 11pt\; background-color: transparent\; font-weight: 700\; font-variant-numeric: normal\; font-variant-east-asian: normal\; font-variant-alternates: normal\; font-variant-position: normal\; font-variant-emoji: normal\; vertical-align: baseline\; text-wrap-mode: wrap\;">Ribbon-Cutting Ceremony:</span><span style="font-size: 11pt\; background-color: transparent\; font-variant-numeric: normal\; font-variant-east-asian: normal\; font-variant-alternates: normal\; font-variant-position: normal\; font-variant-emoji: normal\; vertical-align: baseline\; text-wrap-mode: wrap\;"> Celebrate the official opening of ConvenientMD Urgent Care with members of the local community.</span></span></p>\n	</li>\n	<li aria-level="1" dir="ltr" style="list-style-type: disc\; font-size: 11pt\; font-family: Arial\, sans-serif\; color: rgb(0\, 0\, 0)\; background-color: transparent\; font-variant-numeric: normal\; font-variant-east-asian: normal\; font-variant-alternates: normal\; font-variant-position: normal\; font-variant-emoji: normal\; vertical-align: baseline\; white-space: pre\;">\n	<p dir="ltr" role="presentation" style="line-height:1.38\;margin-top:0pt\;margin-bottom:0pt\;"><span id="docs-internal-guid-ca23c33a-7fff-9de2-bd30-e076c962b97a"><span style="font-size: 11pt\; background-color: transparent\; font-weight: 700\; font-variant-numeric: normal\; font-variant-east-asian: normal\; font-variant-alternates: normal\; font-variant-position: normal\; font-variant-emoji: normal\; vertical-align: baseline\; text-wrap-mode: wrap\;">Tour the Facility:</span><span style="font-size: 11pt\; background-color: transparent\; font-variant-numeric: normal\; font-variant-east-asian: normal\; font-variant-alternates: normal\; font-variant-position: normal\; font-variant-emoji: normal\; vertical-align: baseline\; text-wrap-mode: wrap\;"> Explore the clinic and meet the medical team. Refreshments and snacks will be provided!</span></span></p>\n	</li>\n</ul>\n
LOCATION:ConvenientMD Urgent Care 424 Russell Street Hadley\, MA 01035
UID:e.1230.24584
SEQUENCE:3
DTSTAMP:20260421T140507Z
URL:https://business.amherstarea.com/events/details/ribbon-cutting-ceremony-convenientmd-urgent-care-24584
END:VEVENT

END:VCALENDAR
