BEGIN:VCALENDAR
VERSION:2.0
PRODID:-//ChamberMaster//Event Calendar 2.0//EN
METHOD:PUBLISH
X-PUBLISHED-TTL:P3D
REFRESH-INTERVAL:P3D
CALSCALE:GREGORIAN
BEGIN:VEVENT
DTSTART:20240326T170000Z
DTEND:20240326T180000Z
X-MICROSOFT-CDO-ALLDAYEVENT:FALSE
SUMMARY:Reimagine Your Personal Brand
DESCRIPTION:What do you want to be known for? What are a few words you'd like people to think of when they remember working with you? We all understand consumer brands and how they work to influence our choices\, but when it comes to your own personal brand\, it's not a jingle or a commercial\, but rather the way you are perceived by those around you.  You already have a brand\, so let's figure out what yours is so that you can decide how you feel about it and if you need to do anything differently. You will leave from this session with a plan to understand your current brand and strategies to manage it. Visit https://bit.ly/MarchKeynote to register.
X-ALT-DESC;FMTTYPE=text/html:What do you want to be known for? What are a few words you&rsquo\;d like people to think of when they remember working with you? We all understand consumer brands and how they work to influence our choices\, but when it comes to your own personal brand\, it&rsquo\;s not a jingle or a commercial\, but rather the way you are perceived by those around you.&nbsp\; You already have a brand\, so let&rsquo\;s figure out what yours is so that you can decide how you feel about it and if you need to do anything differently. You will leave from this session with a plan to understand your current brand and strategies to manage it. Visit https://bit.ly/MarchKeynote to register.
LOCATION:Virtual
UID:e.1230.24157
SEQUENCE:3
DTSTAMP:20260423T010213Z
URL:https://business.amherstarea.com/events/details/reimagine-your-personal-brand-24157
END:VEVENT

END:VCALENDAR
