BEGIN:VCALENDAR
VERSION:2.0
PRODID:-//ChamberMaster//Event Calendar 2.0//EN
METHOD:PUBLISH
X-PUBLISHED-TTL:P3D
REFRESH-INTERVAL:P3D
CALSCALE:GREGORIAN
BEGIN:VEVENT
DTSTART:20250418T210000Z
DTEND:20250419T000000Z
X-MICROSOFT-CDO-ALLDAYEVENT:FALSE
SUMMARY:R.I.S.E. Fest
DESCRIPTION:Bestselling authors and illustrators will join young area artists at this inclusive community celebration and showcase dedicated to uplifting the mental health benefits of art in all mediums. Families will be able to meet creators Holly Black\, Emma Hunsinger\, Kyle Lukoff\, Jamar Nicholas\, Ra l The Third\, Brian Selznick\, and Tillie Walden\, among others.
X-ALT-DESC;FMTTYPE=text/html:Bestselling authors and illustrators will join young area artists at this inclusive community celebration and showcase dedicated to uplifting the mental health benefits of art in all mediums. Families will be able to meet creators Holly Black\, Emma Hunsinger\, Kyle Lukoff\, Jamar Nicholas\, Ra&uacute\;l The Third\, Brian Selznick\, and Tillie Walden\, among others.
LOCATION:Northampton Center for the Arts 33 Hawley Street\, Northampton\, MA\, 01060 United States
UID:e.1230.24316
SEQUENCE:3
DTSTAMP:20260421T123359Z
URL:https://business.amherstarea.com/events/details/r-i-s-e-fest-24316
END:VEVENT

END:VCALENDAR
