BEGIN:VCALENDAR
VERSION:2.0
PRODID:-//ChamberMaster//Event Calendar 2.0//EN
METHOD:PUBLISH
X-PUBLISHED-TTL:P3D
REFRESH-INTERVAL:P3D
CALSCALE:GREGORIAN
BEGIN:VEVENT
DTSTART:20250130T223000Z
DTEND:20250131T010000Z
X-MICROSOFT-CDO-ALLDAYEVENT:FALSE
SUMMARY:Peace Development Fund's Inaugural Grassroots Gala
DESCRIPTION:The Peace Development Fund (PDF) invites you to celebrate organizing at our inaugural Grassroots Gala on January 30th at Fame Eatery in Holyoke\, MA. Join us as we honor exceptional individuals and organizations with the inaugural Truth Awards and welcome our new Executive Director. Grant recipients include Springfield No One Leaves\, Aramis Sundiata and Paul Haible. Tickets are $75\, with an adjusted cost of $25 for grassroots organizers. Event begins at 5:30 PM. Visit https://bit.ly/PDFGala for more information!
X-ALT-DESC;FMTTYPE=text/html:<div style="margin-top: 1em\; margin-bottom: 1em\; font-family: Aptos\, Aptos_EmbeddedFont\, Aptos_MSFontService\, Calibri\, Helvetica\, sans-serif\; font-size: 12pt\; color: rgb(0\, 0\, 0)\;">The Peace Development Fund (PDF) invites you to celebrate organizing at our inaugural Grassroots Gala on January 30th at Fame Eatery in Holyoke\, MA. Join us as we honor exceptional individuals and organizations with the inaugural Truth Awards and welcome our new Executive Director. Grant recipients include Springfield No One Leaves\, Aramis Sundiata and Paul Haible. Tickets are $75\, with an adjusted cost of $25 for grassroots organizers. Event begins at 5:30 PM. Visit&nbsp\;<a data-saferedirecturl="https://www.google.com/url?q=https://bit.ly/PDFGala&amp\;source=gmail&amp\;ust=1736284781001000&amp\;usg=AOvVaw2_PaRDoYwf8W6NCvy-kDe7" href="https://bit.ly/PDFGala" id="m_-4007942581285774598LPlnkOWA39a03da3-2af4-9807-8ddb-dc145c4e4c78" rel="noreferrer noopener" style="color: rgb(17\, 85\, 204)\; cursor: pointer\;" target="_blank" title="https://bit.ly/pdfgala">https://bit.ly/PDFGala</a>&nbsp\;for more information!</div>\n
LOCATION:Fame Eatery\, 386 Dwight Street\, Holyoke\, MA
UID:e.1230.24281
SEQUENCE:3
DTSTAMP:20260422T092004Z
URL:https://business.amherstarea.com/events/details/peace-development-fund-s-inaugural-grassroots-gala-24281
END:VEVENT

END:VCALENDAR
