BEGIN:VCALENDAR
VERSION:2.0
PRODID:-//ChamberMaster//Event Calendar 2.0//EN
METHOD:PUBLISH
X-PUBLISHED-TTL:P3D
REFRESH-INTERVAL:P3D
CALSCALE:GREGORIAN
BEGIN:VEVENT
DTSTART:20251116T180000Z
DTEND:20251116T200000Z
X-MICROSOFT-CDO-ALLDAYEVENT:FALSE
SUMMARY:Paint + Poetry Open Mic for Amherst Survival Center
DESCRIPTION:Paint & Poetry is a gathering of reflection\, creativity\, and connection. Come as you are to share your words\, listen deeply\, and paint as inspiration unfolds. Please bring poetry or other written material that you would like to read or present. RSVP due to limited seats. Light refreshments provided. Free. Ages 16+ In the spirit of helping our neighbors\, please consider a donation directly to the Amherst Survival Center. https://amherstsurvival.org/donate/
X-ALT-DESC;FMTTYPE=text/html:Paint &amp\; Poetry is a gathering of reflection\, creativity\, and connection. Come as you are to share your words\, listen deeply\, and paint as inspiration unfolds. Please bring poetry or other written material that you would like to read or present. RSVP due to limited seats. Light refreshments provided. Free. Ages 16+ In the spirit of helping our neighbors\, please consider a donation directly to the Amherst Survival Center. https://amherstsurvival.org/donate/
LOCATION:91 Cowls Road\, Amherst\, Ma 01002
UID:e.1230.24574
SEQUENCE:3
DTSTAMP:20260421T172432Z
URL:https://business.amherstarea.com/events/details/paint-poetry-open-mic-for-amherst-survival-center-24574
END:VEVENT

END:VCALENDAR
