BEGIN:VCALENDAR
VERSION:2.0
PRODID:-//ChamberMaster//Event Calendar 2.0//EN
METHOD:PUBLISH
X-PUBLISHED-TTL:P3D
REFRESH-INTERVAL:P3D
CALSCALE:GREGORIAN
BEGIN:VEVENT
DTSTART:20260116T220000Z
DTEND:20260117T000000Z
X-MICROSOFT-CDO-ALLDAYEVENT:FALSE
SUMMARY:Opening Reception for Mabel Loomis Todd Exhibit to benefit Emily Dickinson Museum
DESCRIPTION:Join us in celebrating our newest Front Window Gallery Exhibit at this opening reception. The Mill District Local Art Gallery presents new images of Mabel Loomis Todd through a rarely seen collection of her paintings created for a book of her father's poetry published over a century ago\, entitled "A Sunset Idyl and Other Poems" by E. J. Loomis. 100% of the proceeds from the sale of post card prints of her paintings exhibited at The Mill District Local Art Gallery benefit Emily Dickinson Museum. The Local Art Gallery is donating space and sales commission to support this cause.
X-ALT-DESC;FMTTYPE=text/html:Join us in celebrating our newest Front Window Gallery Exhibit at this opening reception. The Mill District Local Art Gallery presents new images of Mabel Loomis Todd through a rarely seen collection of her paintings created for a book of her father&rsquo\;s poetry published over a century ago\, entitled &ldquo\;A Sunset Idyl and Other Poems&rdquo\; by E. J. Loomis. 100% of the proceeds from the sale of post card prints of her paintings exhibited at The Mill District Local Art Gallery benefit Emily Dickinson Museum. The Local Art Gallery is donating space and sales commission to support this cause.
LOCATION:91 Cowls Road\, Amherst\, Ma 01002
UID:e.1230.24653
SEQUENCE:3
DTSTAMP:20260421T143402Z
URL:https://business.amherstarea.com/events/details/opening-reception-for-mabel-loomis-todd-exhibit-to-benefit-emily-dickinson-museum-24653
END:VEVENT

END:VCALENDAR
