BEGIN:VCALENDAR
VERSION:2.0
PRODID:-//ChamberMaster//Event Calendar 2.0//EN
METHOD:PUBLISH
X-PUBLISHED-TTL:P3D
REFRESH-INTERVAL:P3D
CALSCALE:GREGORIAN
BEGIN:VEVENT
DTSTART:20250409T210000Z
DTEND:20250409T223000Z
X-MICROSOFT-CDO-ALLDAYEVENT:FALSE
SUMMARY:No Human is "Illegal" - A Conversation With Jose Antonio Vergas
DESCRIPTION:Pulitzer Prize-winning journalist\, Emmy-nominated filmmaker\, and immigrant rights activist Jose Antonio Vargas will discuss undocumented immigration\, advocacy\, and democracy in the current political moment. Vargas is the founder of Define American\, an organization that empowers diverse and nuanced storytelling about immigrant experiences. Moderated by Sony Cor  ez Bolton\, Associate Professor of English and Spanish.
X-ALT-DESC;FMTTYPE=text/html:Pulitzer Prize-winning journalist\, Emmy-nominated filmmaker\, and immigrant rights activist Jose Antonio Vargas will discuss undocumented immigration\, advocacy\, and democracy in the current political moment. Vargas is the founder of Define American\, an organization that empowers diverse and nuanced storytelling about immigrant experiences. Moderated by Sony Cor&aacute\;&ntilde\;ez Bolton\, Associate Professor of English and Spanish.
LOCATION:Johnson Chapel\, Amherst College
UID:e.1230.24308
SEQUENCE:3
DTSTAMP:20260421T124329Z
URL:https://business.amherstarea.com/events/details/no-human-is-illegal-a-conversation-with-jose-antonio-vergas-24308
END:VEVENT

END:VCALENDAR
