BEGIN:VCALENDAR
VERSION:2.0
PRODID:-//ChamberMaster//Event Calendar 2.0//EN
METHOD:PUBLISH
X-PUBLISHED-TTL:P3D
REFRESH-INTERVAL:P3D
CALSCALE:GREGORIAN
BEGIN:VEVENT
DTSTART:20160219T003000Z
DTEND:20160219T023000Z
X-MICROSOFT-CDO-ALLDAYEVENT:FALSE
SUMMARY:New Playreading Series presents LIVY IN THE GARDEN
DESCRIPTION:New Playreading Series presents LIVY IN THE GARDEN by Ellen Kaplan Directed by Hannah Sachs Thursday\, February 18 - 7:30pm - Acting Studio 1 Livy is about to give birth ? and she?s terrified. She wants to flee her own body\, but she is locked in her mother?s garden\, waiting for the moment when the newborn will arrive. She cannot imagine herself as a mother\, certainly not as the good mother she thinks she?s supposed to be. In a contemporary environment of fragmentation and isolation\, women are often alienated from this primal experience\; there is ambiguous archeological evidence (at which Livy scoffs) that birth was far more sacred and central in pre-history\, and Livy?s companions open a pathway to that earlier world.
X-ALT-DESC;FMTTYPE=text/html:New Playreading Series presents LIVY IN THE GARDEN by Ellen Kaplan Directed by Hannah Sachs Thursday\, February 18 - 7:30pm - Acting Studio 1 Livy is about to give birth ? and she?s terrified. She wants to flee her own body\, but she is locked in her mother?s garden\, waiting for the moment when the newborn will arrive. She cannot imagine herself as a mother\, certainly not as the good mother she thinks she?s supposed to be. In a contemporary environment of fragmentation and isolation\, women are often alienated from this primal experience\; there is ambiguous archeological evidence (at which Livy scoffs) that birth was far more sacred and central in pre-history\, and Livy?s companions open a pathway to that earlier world.
LOCATION:Acting Studio 1 (T100)\, Mendenhall Center for the Performing Arts\, Smith College
UID:e.1230.16916
SEQUENCE:3
DTSTAMP:20260419T133518Z
URL:https://business.amherstarea.com/events/details/new-playreading-series-presents-livy-in-the-garden-02-18-2016-16916
END:VEVENT

END:VCALENDAR
