BEGIN:VCALENDAR
VERSION:2.0
PRODID:-//ChamberMaster//Event Calendar 2.0//EN
METHOD:PUBLISH
X-PUBLISHED-TTL:P3D
REFRESH-INTERVAL:P3D
CALSCALE:GREGORIAN
BEGIN:VEVENT
DTSTART:20250126T180000Z
DTEND:20250126T200000Z
X-MICROSOFT-CDO-ALLDAYEVENT:FALSE
SUMMARY:MeSSes: A family circus
DESCRIPTION:In meSSeS\, Janoah...anygoodjokes? juggles several tasks simultaneously: performing & teaching! During this (optionally interactive) performance YOU learn to juggle as you watch. In moments between acts\, Janoah engagingly guides audience through the essentials: throwing\, catching and messy-ing up! Precarious unicycle pathways\, vibrating puppetry\, jaw-dropping juggling\, mesmerizing motions\, meticulously prepared hot beverages   Janoah tosses together art forms to tell a tale of teaching\, learning & labor\, hilariously emerging from a haphazard pile of props. And (of course!) what circus would be complete without popcorn & banana peels? Family Audience. Followed by a free family juggling workshop.
X-ALT-DESC;FMTTYPE=text/html:In meSSeS\, Janoah...anygoodjokes? juggles several tasks simultaneously: performing &amp\; teaching! During this (optionally interactive) performance YOU learn to juggle as you watch. In moments between acts\, Janoah engagingly guides audience through the essentials: throwing\, catching and messy-ing up! Precarious unicycle pathways\, vibrating puppetry\, jaw-dropping juggling\, mesmerizing motions\, meticulously prepared hot beverages &hellip\; Janoah tosses together art forms to tell a tale of teaching\, learning &amp\; labor\, hilariously emerging from a haphazard pile of props. And (of course!) what circus would be complete without popcorn &amp\; banana peels? Family Audience. Followed by a free family juggling workshop.
LOCATION:NECCA\, 10 Town Crier Drive\, Brattleboro\, VT 05301
UID:e.1230.24246
SEQUENCE:3
DTSTAMP:20260422T085036Z
URL:https://business.amherstarea.com/events/details/messes-a-family-circus-24246
END:VEVENT

END:VCALENDAR
