BEGIN:VCALENDAR
VERSION:2.0
PRODID:-//ChamberMaster//Event Calendar 2.0//EN
METHOD:PUBLISH
X-PUBLISHED-TTL:P3D
REFRESH-INTERVAL:P3D
CALSCALE:GREGORIAN
BEGIN:VEVENT
DTSTART:20241125T120000Z
DTEND:20241126T230000Z
X-MICROSOFT-CDO-ALLDAYEVENT:FALSE
SUMMARY:March for the Food Bank
DESCRIPTION:15 years ago\, Monte Belmonte pushed an empty shopping cart from Northampton to Greenfield with the goal of raising $5\,000 for the Food Bank. He raised $13\,000 that year\, and started a movement that has become the three county\, 43-mile March for the Food Bank. Join Monte\, Congressman Jim McGovern\, Food Bank Executive Director Andrew Morehouse\, and several supporters from the Western MA communities as they march as they march from Springfield to Greenfield this November raise funds to help provide healthy meals to our Western Massachusetts neighbors. Our $500\,000 goal for this march will enable the Food Bank to provide the equivalent of 1.5 million meals to the community! To sign up or for more information\, go to http://marchforthefoodbank.org
X-ALT-DESC;FMTTYPE=text/html:15 years ago\, Monte Belmonte pushed an empty shopping cart from Northampton to Greenfield with the goal of raising $5\,000 for the Food Bank. He raised $13\,000 that year\, and started a movement that has become the three county\, 43-mile March for the Food Bank. Join Monte\, Congressman Jim McGovern\, Food Bank Executive Director Andrew Morehouse\, and several supporters from the Western MA communities as they march as they march from Springfield to Greenfield this November raise funds to help provide healthy meals to our Western Massachusetts neighbors. Our $500\,000 goal for this march will enable the Food Bank to provide the equivalent of 1.5 million meals to the community! To sign up or for more information\, go to http://marchforthefoodbank.org
LOCATION:November 25th Start: MLK Community Center: 3 Rutland Drive Springfield MA 01109 End: WRSI Radio Station- 15 Hampton Ave Northampton MA 01060 November 26th Start: Corner of Pleasant St and Hampden Ave Northampton MA 01060 End: Hawks and Reed: 289 Main St Greenfield Ma 01301
UID:e.1230.24234
SEQUENCE:3
DTSTAMP:20260422T123040Z
URL:https://business.amherstarea.com/events/details/march-for-the-food-bank-24234
END:VEVENT

END:VCALENDAR
