BEGIN:VCALENDAR
VERSION:2.0
PRODID:-//ChamberMaster//Event Calendar 2.0//EN
METHOD:PUBLISH
X-PUBLISHED-TTL:P3D
REFRESH-INTERVAL:P3D
CALSCALE:GREGORIAN
BEGIN:VEVENT
DTSTART:20260118T033000Z
DTEND:20260118T043000Z
X-MICROSOFT-CDO-ALLDAYEVENT:FALSE
SUMMARY:Little Kid Flicks Age 5+ (New York International Children's Film Festival)
DESCRIPTION:(2nd Show at 1:30 pm) These amazing short films from around the world are sure to inspire curiosity and conversation for viewers big and small. With animation\, live action\, and documentary shorts\, Kid Flicks programs offer a chance to explore new frontiers from around the world\, across the street\, and the ever-expanding boundaries of our own perspectives. Let your little ones discover the magic of the big screen with Little Kid Flicks.
X-ALT-DESC;FMTTYPE=text/html:(2nd Show at 1:30 pm) These amazing short films from around the world are sure to inspire curiosity and conversation for viewers big and small. With animation\, live action\, and documentary shorts\, Kid Flicks programs offer a chance to explore new frontiers from around the world\, across the street\, and the ever-expanding boundaries of our own perspectives. Let your little ones discover the magic of the big screen with Little Kid Flicks.
LOCATION:The Eric Carle Museum of Picture Book Art
UID:e.1230.24642
SEQUENCE:3
DTSTAMP:20260421T143958Z
URL:https://business.amherstarea.com/events/details/little-kid-flicks-age-5-new-york-international-children-s-film-festival-24642
END:VEVENT

END:VCALENDAR
