BEGIN:VCALENDAR
VERSION:2.0
PRODID:-//ChamberMaster//Event Calendar 2.0//EN
METHOD:PUBLISH
X-PUBLISHED-TTL:P3D
REFRESH-INTERVAL:P3D
CALSCALE:GREGORIAN
BEGIN:VEVENT
DTSTART:20260514T163000Z
DTEND:20260514T180000Z
X-MICROSOFT-CDO-ALLDAYEVENT:FALSE
SUMMARY:Large Building Energy Reporting (LBER) 201
DESCRIPTION:Dig deeper into resources and tools to prepare you for the 2026 Large Building Energy Reporting (LBER) deadline. This webinar is a primer for large building owners to understand how to comply with the Massachusetts Large Building Energy Reporting (LBER) law. This webinar builds off the April 23\, 2026 Webinar (link below). In this Session\, we will share building owner tools\, how to enter data for delivered fuels and solar energy\, campus level reporting\, and walk through a utility bill. These tools will help building owners meet the requirements for the June 30th reporting deadline. This session includes an audience Q&A section.
X-ALT-DESC;FMTTYPE=text/html:Dig deeper into resources and tools to prepare you for the 2026 Large Building Energy Reporting (LBER) deadline. This webinar is a primer for large building owners to understand how to comply with the Massachusetts Large Building Energy Reporting (LBER) law. This webinar builds off the April 23\, 2026 Webinar (link below). In this Session\, we will share building owner tools\, how to enter data for delivered fuels and solar energy\, campus level reporting\, and walk through a utility bill. These tools will help building owners meet the requirements for the June 30th reporting deadline. This session includes an audience Q&amp\;A section.
LOCATION:https://neep-org.zoom.us/webinar/register/WN_RAdd9pdrSYK0btecyQz4HA#/registration
UID:e.1230.24955
SEQUENCE:3
DTSTAMP:20260421T122721Z
URL:https://business.amherstarea.com/events/details/large-building-energy-reporting-lber-201-24955
END:VEVENT

END:VCALENDAR
