BEGIN:VCALENDAR
VERSION:2.0
PRODID:-//ChamberMaster//Event Calendar 2.0//EN
METHOD:PUBLISH
X-PUBLISHED-TTL:P3D
REFRESH-INTERVAL:P3D
CALSCALE:GREGORIAN
BEGIN:VEVENT
DTSTART:20241215T190000Z
DTEND:20241215T210000Z
X-MICROSOFT-CDO-ALLDAYEVENT:FALSE
SUMMARY:How the Holocaust Changed the Yiddish Language\, with Hannah Pollin-Galay
DESCRIPTION:During and immediately after World War II\, Eastern European Jews perceived a radical transformation in the Yiddish language. This perception inspired some intellectuals to create dictionaries and glossaries that deciphered the metamorphosis of Yiddish words. Others incorporated this new strain of Yiddish into their poetry and prose. In this conversation\, Hannah will explore Khurbn Yiddish (Yiddish of the Holocaust) as a form of Holocaust memory. Following the conversation there will be a book signing.
X-ALT-DESC;FMTTYPE=text/html:During and immediately after World War II\, Eastern European Jews perceived a radical transformation in the Yiddish language. This perception inspired some intellectuals to create dictionaries and glossaries that deciphered the metamorphosis of Yiddish words. Others incorporated this new strain of Yiddish into their poetry and prose. In this conversation\, Hannah will explore Khurbn Yiddish (Yiddish of the Holocaust) as a form of Holocaust memory. Following the conversation there will be a book signing.
LOCATION:1021 West St\, Amherst\, MA 01002
UID:e.1230.24219
SEQUENCE:3
DTSTAMP:20260422T110214Z
URL:https://business.amherstarea.com/events/details/how-the-holocaust-changed-the-yiddish-language-with-hannah-pollin-galay-24219
END:VEVENT

END:VCALENDAR
