BEGIN:VCALENDAR
VERSION:2.0
PRODID:-//ChamberMaster//Event Calendar 2.0//EN
METHOD:PUBLISH
X-PUBLISHED-TTL:P3D
REFRESH-INTERVAL:P3D
CALSCALE:GREGORIAN
BEGIN:VEVENT
DTSTART:20260112T131500Z
DTEND:20260112T180000Z
X-MICROSOFT-CDO-ALLDAYEVENT:FALSE
SUMMARY:High School Visiting Day
DESCRIPTION:Visit classes. Meet students and teachers. Feel the rhythm of the day.\n\n\n\nOur visiting day invites prospective students to experience a school where learning is relational\, curiosity is nurtured\, and community is built on kindness\, trust\, and belonging.
X-ALT-DESC;FMTTYPE=text/html:Visit classes. Meet students and teachers. Feel the rhythm of the day.<br />\n<br />\nOur visiting day invites prospective students to experience a school where learning is relational\, curiosity is nurtured\, and community is built on kindness\, trust\, and belonging.
LOCATION:The Hartsbrook High School 193 Bay Road Hadley MA 413-586-1908
UID:e.1230.24646
SEQUENCE:3
DTSTAMP:20260421T143254Z
URL:https://business.amherstarea.com/events/details/high-school-visiting-day-24646
END:VEVENT

END:VCALENDAR
