BEGIN:VCALENDAR
VERSION:2.0
PRODID:-//ChamberMaster//Event Calendar 2.0//EN
METHOD:PUBLISH
X-PUBLISHED-TTL:P3D
REFRESH-INTERVAL:P3D
CALSCALE:GREGORIAN
BEGIN:VEVENT
DTSTART;VALUE=DATE:20231015
DTEND;VALUE=DATE:20231016
TRANSP:TRANSPARENT
X-MICROSOFT-CDO-ALLDAYEVENT:TRUE
SUMMARY:GRAND OPENING | Yiddish: A Global Culture
DESCRIPTION:On October 15\, 2023\, the Yiddish Book Center will debut our major new permanent exhibition\, Yiddish: A Global Culture. The exhibition tells a multitude of global yet deeply personal stories\, exploring modern Yiddish literature\, theater\, music\, press\, and politics through approximately 350 objects. A grand reopening celebration on October 15\, 2023 will include a dedication\, live performances\, and exhibition tours throughout the day.
X-ALT-DESC;FMTTYPE=text/html:On October 15\, 2023\, the Yiddish Book Center will debut our major new permanent exhibition\, Yiddish: A Global Culture. The exhibition tells a multitude of global yet deeply personal stories\, exploring modern Yiddish literature\, theater\, music\, press\, and politics through approximately 350 objects. A grand reopening celebration on October 15\, 2023 will include a dedication\, live performances\, and exhibition tours throughout the day.
LOCATION:Yiddish Book Center 1021 West Street Amherst\, MA 01002
UID:e.1230.24053
SEQUENCE:3
DTSTAMP:20260420T224017Z
URL:https://business.amherstarea.com/events/details/grand-opening-yiddish-a-global-culture-24053
END:VEVENT

END:VCALENDAR
