BEGIN:VCALENDAR
VERSION:2.0
PRODID:-//ChamberMaster//Event Calendar 2.0//EN
METHOD:PUBLISH
X-PUBLISHED-TTL:P3D
REFRESH-INTERVAL:P3D
CALSCALE:GREGORIAN
BEGIN:VEVENT
DTSTART:20260509T130000Z
DTEND:20260509T160000Z
X-MICROSOFT-CDO-ALLDAYEVENT:FALSE
SUMMARY:Grace Episcopal Church Annual Plant Sale
DESCRIPTION:Join us for a plant sale on the Amherst Common on May 9\, 2026\, hosted by Grace Episcopal Church from 9 AM to 12 PM.
X-ALT-DESC;FMTTYPE=text/html:Join us for a plant sale on the Amherst Common on May 9\, 2026\, hosted by Grace Episcopal Church from 9 AM to 12 PM.
LOCATION:Amherst Common Amherst\, MA
UID:e.1230.24463
SEQUENCE:3
DTSTAMP:20260421T125830Z
URL:https://business.amherstarea.com/events/details/grace-episcopal-church-annual-plant-sale-24463
END:VEVENT

END:VCALENDAR
