BEGIN:VCALENDAR
VERSION:2.0
PRODID:-//ChamberMaster//Event Calendar 2.0//EN
METHOD:PUBLISH
X-PUBLISHED-TTL:P3D
REFRESH-INTERVAL:P3D
CALSCALE:GREGORIAN
BEGIN:VEVENT
DTSTART:20260523T123000Z
DTEND:20260523T170000Z
X-MICROSOFT-CDO-ALLDAYEVENT:FALSE
SUMMARY:Garden Club of Amherst's 2026 Plant Sale
DESCRIPTION:The Garden Club of Amherst annual plant sale will be held May 23rd from 8:30 a.m. to 1:00 p.m. under the tent on the Amherst Common\, rain or shine.\n\n\n\nThe sale will feature hundreds of fabulous perennials\, shrubs\, and small trees including woodland and native plants as well as plants for both shade and sun all donated by local gardeners. \n\n\n\nSales help support town beautification projects\, an annual University of Massachusetts scholarship and contributions to local conservation and education organizations.
X-ALT-DESC;FMTTYPE=text/html:<b style="color: rgb(34\, 34\, 34)\; font-family: Arial\, Helvetica\, sans-serif\; font-size: small\;">The Garden Club of Amherst annual plant sale will be held May 23rd from 8:30 a.m. to 1:00 p.m. under the tent on the Amherst Common\, rain or shine.<br />\n<br />\nThe sale will feature hundreds of fabulous perennials\, shrubs\, and small trees&mdash\;including woodland and native plants as well as plants for both shade and sun&mdash\;all donated by local gardeners</b><span style="color: rgb(34\, 34\, 34)\; font-family: Arial\, Helvetica\, sans-serif\; font-size: small\;">.&nbsp\;</span><br />\n<br />\n<b style="color: rgb(34\, 34\, 34)\; font-family: Arial\, Helvetica\, sans-serif\; font-size: small\;">Sales help support town beautification projects\, an annual University of Massachusetts scholarship and contributions to local conservation and education organizations.</b>\n<div>&nbsp\;</div>\n
LOCATION:Amherst Common Amherst\, MA 01002
UID:e.1230.24942
SEQUENCE:3
DTSTAMP:20260421T122850Z
URL:https://business.amherstarea.com/events/details/garden-club-of-amherst-s-2026-plant-sale-24942
END:VEVENT

END:VCALENDAR
