BEGIN:VCALENDAR
VERSION:2.0
PRODID:-//ChamberMaster//Event Calendar 2.0//EN
METHOD:PUBLISH
X-PUBLISHED-TTL:P3D
REFRESH-INTERVAL:P3D
CALSCALE:GREGORIAN
BEGIN:VEVENT
DTSTART:20241101T211500Z
DTEND:20241101T224500Z
X-MICROSOFT-CDO-ALLDAYEVENT:FALSE
SUMMARY:Friday Night Flights
DESCRIPTION:Halloween - Get one more chance to wear this year's Halloween costume at this Halloween Flight Night! This class is for flyers at every level of ability and experience whether you've never tried flying trapeze before\, or you're working on taking tricks out of lines. Beginning students will learn how to take off from the platform\, perform fundamental trapeze tricks\, and begin working on the 'swing' the bread and butter of flying trapeze. More experienced flyers will continue to work on fundamentals and on advancing their trick vocabulary. In the last half hour of class\, flyers who are ready will be able to take their tricks across to a catcher (one of their coaches) swinging from a second trapeze. Prerequisites: None! The only prerequisite for this class is age. This class is for students ages seven and up.
X-ALT-DESC;FMTTYPE=text/html:Halloween - Get one more chance to wear this year&#39\;s Halloween costume at this Halloween Flight Night! This class is for flyers at every level of ability and experience&mdash\;whether you&rsquo\;ve never tried flying trapeze before\, or you&rsquo\;re working on taking tricks out of lines. Beginning students will learn how to take off from the platform\, perform fundamental trapeze tricks\, and begin working on the &lsquo\;swing&rsquo\;&mdash\;the bread and butter of flying trapeze. More experienced flyers will continue to work on fundamentals and on advancing their trick vocabulary. In the last half hour of class\, flyers who are ready will be able to take their tricks across to a catcher (one of their coaches) swinging from a second trapeze. Prerequisites: None! The only prerequisite for this class is age. This class is for students ages seven and up.
LOCATION:10 Town Crier Drive\, Brattleboro\, VT 05301
UID:e.1230.24233
SEQUENCE:3
DTSTAMP:20260422T144739Z
URL:https://business.amherstarea.com/events/details/friday-night-flights-11-01-2024-24233
END:VEVENT

END:VCALENDAR
