BEGIN:VCALENDAR
VERSION:2.0
PRODID:-//ChamberMaster//Event Calendar 2.0//EN
METHOD:PUBLISH
X-PUBLISHED-TTL:P3D
REFRESH-INTERVAL:P3D
CALSCALE:GREGORIAN
BEGIN:VEVENT
DTSTART:20251218T210000Z
DTEND:20251219T020000Z
X-MICROSOFT-CDO-ALLDAYEVENT:FALSE
SUMMARY:Fourth Annual Sip 'n Shop Stroll
DESCRIPTION:Horse-drawn carriage rides\n\nShop boutique and unique independent retail\n\nPrix-fixe meals at your favorite local restaurants\n\nPOP-UP Makers & Artisans Market at the Inn on Boltwood Ballroom
X-ALT-DESC;FMTTYPE=text/html:Horse-drawn carriage rides<br />\nShop boutique and unique independent retail<br />\nPrix-fixe meals at your favorite local restaurants<br />\nPOP-UP Makers &amp\; Artisans Market at the Inn on Boltwood Ballroom
LOCATION:Downtown Amherst!
UID:e.1230.24591
SEQUENCE:3
DTSTAMP:20260421T160311Z
URL:https://business.amherstarea.com/events/details/fourth-annual-sip-n-shop-stroll-24591
END:VEVENT

END:VCALENDAR
