BEGIN:VCALENDAR
VERSION:2.0
PRODID:-//ChamberMaster//Event Calendar 2.0//EN
METHOD:PUBLISH
X-PUBLISHED-TTL:P3D
REFRESH-INTERVAL:P3D
CALSCALE:GREGORIAN
BEGIN:VEVENT
DTSTART:20241207T000000Z
DTEND:20241207T020000Z
X-MICROSOFT-CDO-ALLDAYEVENT:FALSE
SUMMARY:Flying Recital (December)
DESCRIPTION:Come see our flying trapezists fly through the air with the greatest of ease during NECCA's Flying Trapeze recital\, including a performance by NECCA's own Fly Team\, the Flying Jesters! This recital's theme is [tbd as of 9/20/24]! Come dressed up if you can. This recital is by donation\, no reservations required\, and appropriate for all ages.
X-ALT-DESC;FMTTYPE=text/html:Come see our flying trapezists fly through the air with the greatest of ease during NECCA&#39\;s Flying Trapeze recital\, including a performance by NECCA&#39\;s own Fly Team\, the Flying Jesters! This recital&#39\;s theme is [tbd as of 9/20/24]! Come dressed up if you can. This recital is by donation\, no reservations required\, and appropriate for all ages.
LOCATION:NECCA Trapezium
UID:e.1230.24235
SEQUENCE:3
DTSTAMP:20260422T104958Z
URL:https://business.amherstarea.com/events/details/flying-recital-december-24235
END:VEVENT

END:VCALENDAR
