BEGIN:VCALENDAR
VERSION:2.0
PRODID:-//ChamberMaster//Event Calendar 2.0//EN
METHOD:PUBLISH
X-PUBLISHED-TTL:P3D
REFRESH-INTERVAL:P3D
CALSCALE:GREGORIAN
BEGIN:VEVENT
DTSTART:20240619T180000Z
DTEND:20240619T193000Z
X-MICROSOFT-CDO-ALLDAYEVENT:FALSE
SUMMARY:FILM SCREENING | Nathan-ism
DESCRIPTION:Join us for an in-person screening of Nathan-ism\, a film by Elan Golod\, at the Yiddish Book Center. At the end of World War II\, Nathan Hilu\, the son of Syrian Jewish immigrants to New York\, received a life-changing assignment from the U.S. Army: to guard the top Nazi war criminals at the Nuremberg trials. This experience fueled a lifetime of artistic inspiration for Nathan\, a virtually unknown "outsider artist\," who spent the next 70 years obsessively creating a visual narrative from his memories. Nathan-ism explores Nathan's relationship with his own stories\, and the compulsion he has to share them with a world that doesn't always listen.
X-ALT-DESC;FMTTYPE=text/html:Join us for an in-person screening of Nathan-ism\, a film by Elan Golod\, at the Yiddish Book Center. At the end of World War II\, Nathan Hilu\, the son of Syrian Jewish immigrants to New York\, received a life-changing assignment from the U.S. Army: to guard the top Nazi war criminals at the Nuremberg trials. This experience fueled a lifetime of artistic inspiration for Nathan\, a virtually unknown &ldquo\;outsider artist\,&rdquo\; who spent the next 70 years obsessively creating a visual narrative from his memories. Nathan-ism explores Nathan&#39\;s relationship with his own stories\, and the compulsion he has to share them with a world that doesn&#39\;t always listen.
LOCATION:Yiddish Book Center\, 1021 West St\, Amherst\, MA 01002
UID:e.1230.24169
SEQUENCE:3
DTSTAMP:20260422T203008Z
URL:https://business.amherstarea.com/events/details/film-screening-nathan-ism-24169
END:VEVENT

END:VCALENDAR
