BEGIN:VCALENDAR
VERSION:2.0
PRODID:-//ChamberMaster//Event Calendar 2.0//EN
METHOD:PUBLISH
X-PUBLISHED-TTL:P3D
REFRESH-INTERVAL:P3D
CALSCALE:GREGORIAN
BEGIN:VEVENT
DTSTART:20260118T150000Z
DTEND:20260118T190000Z
X-MICROSOFT-CDO-ALLDAYEVENT:FALSE
SUMMARY:Fill the Truck Food Drive
DESCRIPTION:Neighbors Helping Neighbors\n\nFill The Truck Food Drive\n\nHosted By: State Representative Aaron Saunders\n\n\n\nSupport the Amherst Survival Center with the Fill The Truck Food Drive on January 18th from 10 AM to 2 PM at Belchertown Town Hall.\n\n\n\nOR\n\n\n\nNow through Saturday\, January 17th\, visit Window World of Western MA's Belchertown showroom at 20 Daniel Shays Hwy to drop off dried goods. Every donation makes double the impact - Window World of Western MA will match each and every item you give!
X-ALT-DESC;FMTTYPE=text/html:Neighbors Helping Neighbors<br />\nFill The Truck Food Drive<br />\nHosted By: State Representative Aaron Saunders<br />\n<br />\nSupport the Amherst Survival Center with the Fill The Truck Food Drive on January 18th from 10 AM to 2 PM at Belchertown Town Hall.<br />\n<br />\nOR<br />\n<br />\nNow through Saturday\, January 17th\, visit Window World of Western MA&#39\;s Belchertown showroom at 20 Daniel Shays Hwy to drop off dried goods. Every donation makes double the impact - Window World of Western MA will match each and every item you give!
LOCATION:Belchertown Town Hall 2 Jabish St Hall Belchertown\, MA OR Window World of Western MA 20 Daniel Shays Hwy Belchertown\, MA
UID:e.1230.24649
SEQUENCE:3
DTSTAMP:20260421T155558Z
URL:https://business.amherstarea.com/events/details/fill-the-truck-food-drive-24649
END:VEVENT

END:VCALENDAR
