BEGIN:VCALENDAR
VERSION:2.0
PRODID:-//ChamberMaster//Event Calendar 2.0//EN
METHOD:PUBLISH
X-PUBLISHED-TTL:P3D
REFRESH-INTERVAL:P3D
CALSCALE:GREGORIAN
BEGIN:VEVENT
DTSTART:20240316T210000Z
DTEND:20240316T220000Z
X-MICROSOFT-CDO-ALLDAYEVENT:FALSE
SUMMARY:Dinner To Go at South Church
DESCRIPTION:Our March fundraising Dinner To Go is just in time for St. Patty's Day. We'll be serving up Corned Beef Boiled Dinner with Irish Soda Bread. Carrot Cake for dessert. Curbside pickup.
X-ALT-DESC;FMTTYPE=text/html:Our March fundraising Dinner To Go is just in time for St. Patty&#39\;s Day. We&#39\;ll be serving up Corned Beef Boiled Dinner with Irish Soda Bread. Carrot Cake for dessert. Curbside pickup.
LOCATION:South Congregational Church
UID:e.1230.24138
SEQUENCE:3
DTSTAMP:20260423T010555Z
URL:https://business.amherstarea.com/events/details/dinner-to-go-at-south-church-24138
END:VEVENT

END:VCALENDAR
