BEGIN:VCALENDAR
VERSION:2.0
PRODID:-//ChamberMaster//Event Calendar 2.0//EN
METHOD:PUBLISH
X-PUBLISHED-TTL:P3D
REFRESH-INTERVAL:P3D
CALSCALE:GREGORIAN
BEGIN:VEVENT
DTSTART:20241213T000000Z
DTEND:20241213T020000Z
X-MICROSOFT-CDO-ALLDAYEVENT:FALSE
SUMMARY:Curating Yiddish Culture with David Mazower
DESCRIPTION:Join us for a talk with David Mazower\, the Yiddish Book Center's research bibliographer and the chief curator and writer of the Center's acclaimed permanent exhibition\, Yiddish: A Global Culture. David will share his favorite objects and images from the exhibition\, stories of the search for original artifacts\, and reflections on how the exhibition speaks to us about the past\, present\, and future of Yiddish culture and community.
X-ALT-DESC;FMTTYPE=text/html:Join us for a talk with David Mazower\, the Yiddish Book Center&rsquo\;s research bibliographer and the chief curator and writer of the Center&rsquo\;s acclaimed permanent exhibition\, Yiddish: A Global Culture. David will share his favorite objects and images from the exhibition\, stories of the search for original artifacts\, and reflections on how the exhibition speaks to us about the past\, present\, and future of Yiddish culture and community.
LOCATION:Online
UID:e.1230.24220
SEQUENCE:3
DTSTAMP:20260422T105709Z
URL:https://business.amherstarea.com/events/details/curating-yiddish-culture-with-david-mazower-24220
END:VEVENT

END:VCALENDAR
