BEGIN:VCALENDAR
VERSION:2.0
PRODID:-//ChamberMaster//Event Calendar 2.0//EN
METHOD:PUBLISH
X-PUBLISHED-TTL:P3D
REFRESH-INTERVAL:P3D
CALSCALE:GREGORIAN
BEGIN:VEVENT
DTSTART:20250124T000000Z
DTEND:20250124T020000Z
X-MICROSOFT-CDO-ALLDAYEVENT:FALSE
SUMMARY:Conversation with professor Samuel Kassow\, translator of Warsaw Testament
DESCRIPTION:Join us for an evening in conversation with renowned scholar Samuel Kassow (Trinity College) about his new translation of Rokhl Auerbach's Warsaw Testament\, published by the Center's White Goat Press in 2024. Based on her wartime writings and participation in the secret Oyneg Shabes Archive in the Warsaw Ghetto\, Auerbach's memoir paints a vivid portrait of the city's prewar Yiddish literary and artistic community and of its destruction at the hands of the Nazis.
X-ALT-DESC;FMTTYPE=text/html:Join us for an evening in conversation with renowned scholar Samuel Kassow (Trinity College) about his new translation of Rokhl Auerbach&rsquo\;s Warsaw Testament\, published by the Center&rsquo\;s White Goat Press in 2024. Based on her wartime writings and participation in the secret Oyneg Shabes Archive in the Warsaw Ghetto\, Auerbach&rsquo\;s memoir paints a vivid portrait of the city&rsquo\;s prewar Yiddish literary and artistic community and of its destruction at the hands of the Nazis.
LOCATION:Zoom
UID:e.1230.24241
SEQUENCE:3
DTSTAMP:20260422T085432Z
URL:https://business.amherstarea.com/events/details/conversation-with-professor-samuel-kassow-translator-of-warsaw-testament-24241
END:VEVENT

END:VCALENDAR
