BEGIN:VCALENDAR
VERSION:2.0
PRODID:-//ChamberMaster//Event Calendar 2.0//EN
METHOD:PUBLISH
X-PUBLISHED-TTL:P3D
REFRESH-INTERVAL:P3D
CALSCALE:GREGORIAN
BEGIN:VEVENT
DTSTART:20240714T233000Z
DTEND:20240715T004500Z
X-MICROSOFT-CDO-ALLDAYEVENT:FALSE
SUMMARY:CONCERT | Eleanor Reissa and the Klezmer Brass Allstars
DESCRIPTION:Yidstock: The Festival of New Yiddish Music returns to the Yiddish Book Center in Amherst\, MA! Join us on Sunday\, July 14 at 7:30 p.m. for a performance by Eleanor Reissa and the Klezmer Brass Allstars. The soulful and inimitable Yiddish vocalist Eleanor Reissa and the great Klezmer Brass Allstars will explore the world of Yiddish song from the obscure to the chestnuts\, from the sacred to the profane\, fueled by the best brass band in the land. The Sarah Rose Lazarus Family Concert About Yidstock: Now in its twelfth year\, Yidstock brings the best in klezmer and new Yiddish music to the Yiddish Book Center in Amherst\, Massachusetts. From July 11 to 14\, this four-day festival will include musicians and performers at the forefront of the Yiddish music scene. Purchase tickets: https://www.brownpapertickets.com/event/6251640
X-ALT-DESC;FMTTYPE=text/html:Yidstock: The Festival of New Yiddish Music returns to the Yiddish Book Center in Amherst\, MA! Join us on Sunday\, July 14 at 7:30 p.m. for a performance by Eleanor Reissa and the Klezmer Brass Allstars. The soulful and inimitable Yiddish vocalist Eleanor Reissa and the great Klezmer Brass Allstars will explore the world of Yiddish song from the obscure to the chestnuts\, from the sacred to the profane\, fueled by the best brass band in the land. The Sarah Rose Lazarus Family Concert About Yidstock: Now in its twelfth year\, Yidstock brings the best in klezmer and new Yiddish music to the Yiddish Book Center in Amherst\, Massachusetts. From July 11 to 14\, this four-day festival will include musicians and performers at the forefront of the Yiddish music scene. Purchase tickets: https://www.brownpapertickets.com/event/6251640
LOCATION:Yiddish Book Center\, 1021 West St\, Amherst\, MA 01002
UID:e.1230.24182
SEQUENCE:3
DTSTAMP:20260422T190049Z
URL:https://business.amherstarea.com/events/details/concert-eleanor-reissa-and-the-klezmer-brass-allstars-24182
END:VEVENT

END:VCALENDAR
