BEGIN:VCALENDAR
VERSION:2.0
PRODID:-//ChamberMaster//Event Calendar 2.0//EN
METHOD:PUBLISH
X-PUBLISHED-TTL:P3D
REFRESH-INTERVAL:P3D
CALSCALE:GREGORIAN
BEGIN:VEVENT
DTSTART:20241231T210000Z
DTEND:20241231T220000Z
X-MICROSOFT-CDO-ALLDAYEVENT:FALSE
SUMMARY:Community Circus for Last Night Brattleboro
DESCRIPTION:Join Brattleboro's own nationally recognized New England Center for Circus Arts for an interactive performance and circus activity. The show will feature student aerialists and acrobats who will amaze and entertain you\, followed by an opportunity for you to circus! NECCA is a non-profit whose mission is using the transformative power of circus arts to enable a diverse and inclusive community of artists\, teachers and students to realize their dreams. Event is 4 - 5 pm\, Dec. 31 at the Trapezium\, 10 Town Crier Drive\, Brattleboro\, VT. www.circusschool.org
X-ALT-DESC;FMTTYPE=text/html:Join Brattleboro&rsquo\;s own nationally recognized New England Center for Circus Arts for an interactive performance and circus activity. The show will feature student aerialists and acrobats who will amaze and entertain you\, followed by an opportunity for you to circus! NECCA is a non-profit whose mission is using the transformative power of circus arts to enable a diverse and inclusive community of artists\, teachers and students to realize their dreams. Event is 4 - 5 pm\, Dec. 31 at the Trapezium\, 10 Town Crier Drive\, Brattleboro\, VT. www.circusschool.org
LOCATION:NECCA\, 10 Town Crier Drive\, Brattleboro\, VT 05301
UID:e.1230.24245
SEQUENCE:3
DTSTAMP:20260422T105130Z
URL:https://business.amherstarea.com/events/details/community-circus-for-last-night-brattleboro-24245
END:VEVENT

END:VCALENDAR
