BEGIN:VCALENDAR
VERSION:2.0
PRODID:-//ChamberMaster//Event Calendar 2.0//EN
METHOD:PUBLISH
X-PUBLISHED-TTL:P3D
REFRESH-INTERVAL:P3D
CALSCALE:GREGORIAN
BEGIN:VEVENT
DTSTART:20250118T163000Z
DTEND:20250118T173000Z
X-MICROSOFT-CDO-ALLDAYEVENT:FALSE
SUMMARY:Comfort Food Sale at South Church
DESCRIPTION:South Church is selling Chili (both vegan & meat)\, Clam Chowder and Mac & Cheese for immediate lunching or stocking the freezer. All items are hot at pickup.
X-ALT-DESC;FMTTYPE=text/html:South Church is selling Chili (both vegan &amp\; meat)\, Clam Chowder and Mac &amp\; Cheese for immediate lunching or stocking the freezer. All items are hot at pickup.
LOCATION:South Church 1066 South East Street Amherst
UID:e.1230.24273
SEQUENCE:3
DTSTAMP:20260422T090035Z
URL:https://business.amherstarea.com/events/details/comfort-food-sale-at-south-church-24273
END:VEVENT

END:VCALENDAR
