BEGIN:VCALENDAR
VERSION:2.0
PRODID:-//ChamberMaster//Event Calendar 2.0//EN
METHOD:PUBLISH
X-PUBLISHED-TTL:P3D
REFRESH-INTERVAL:P3D
CALSCALE:GREGORIAN
BEGIN:VEVENT
DTSTART:20260117T160000Z
DTEND:20260117T180000Z
X-MICROSOFT-CDO-ALLDAYEVENT:FALSE
SUMMARY:CLICK! Curator-Led Tour and Artist Book Signings
DESCRIPTION:Explore the exhibition through a curator's lens\, ask your questions\, and meet the artists who bring stories to life. Tour\, talk\, and book signings all in one special event.
X-ALT-DESC;FMTTYPE=text/html:Explore the exhibition through a curator&rsquo\;s lens\, ask your questions\, and meet the artists who bring stories to life. Tour\, talk\, and book signings all in one special event.
LOCATION:The Eric Carle Museum of Picture Book Art 125 W. Bay Road\, Amherst\, MA
UID:e.1230.24641
SEQUENCE:3
DTSTAMP:20260421T143510Z
URL:https://business.amherstarea.com/events/details/click-curator-led-tour-and-artist-book-signings-24641
END:VEVENT

END:VCALENDAR
