BEGIN:VCALENDAR
VERSION:2.0
PRODID:-//ChamberMaster//Event Calendar 2.0//EN
METHOD:PUBLISH
X-PUBLISHED-TTL:P3D
REFRESH-INTERVAL:P3D
CALSCALE:GREGORIAN
BEGIN:VEVENT
DTSTART:20240310T003000Z
DTEND:20240309T190000Z
X-MICROSOFT-CDO-ALLDAYEVENT:FALSE
SUMMARY:Circus Spectacular
DESCRIPTION:The Circus Spectacular is a dazzling fundraising event from the top circus school in the United States starring guest artists from around the world. Join us for a high flying show that will brighten the season for children of all ages!
X-ALT-DESC;FMTTYPE=text/html:The Circus Spectacular is a dazzling fundraising event from the top circus school in the United States starring guest artists from around the world. Join us for a high flying show that will brighten the season for children of all ages!
LOCATION:Latchis Theater Main Street Brattleboro VT 05301 LIVESTREAM available for Saturday only
UID:e.1230.24134
SEQUENCE:3
DTSTAMP:20260423T010534Z
URL:https://business.amherstarea.com/events/details/circus-spectacular-03-09-2024-24134
END:VEVENT

END:VCALENDAR
